BEGIN:VCALENDAR
VERSION:2.0
PRODID:-//carboncountydepotgallery.org//NONSGML kigkonsult.se iCalcreator 2
 .30.10//
CALSCALE:GREGORIAN
METHOD:PUBLISH
UID:1b5758cc-5188-4ed1-8801-27f8f497026b
X-WR-CALDESC:On June 14\, artists participating in the 'Inspired By Song' e
 xhibition will be on hand to visit with the public about the music that wa
 s the inspiration for their work which is on view in the main gallery thro
 ugh June 21. Guests can use a QR code to listen to the music while looking
  at the art. View pastel\, oil\, and watercolor paintings as well as sculp
 ture\, drawings\, and mixed media work. The songs of inspiration range fro
 m Bach to The Chicks to John Denver to Pink Floyd.  \n\nThere will be spec
 ial demonstrations during the afternoon of Red Lodge Art Walk which is als
 o June 14 from 2-6 p.m.\n\nEcho Ukrainetz will demonstrate how she uses th
 e wax-resist process of batik to create beautiful pieces of art. Ron Ukrai
 netz will demonstrate Claybord™ engraving. Echo and Ron are CCAG members f
 rom Great Falls\, Montana.\n\nThe 'Inspired by Song' exhibition\, Art Walk
 \, art demos\, and reception are free and open to the public. Light refres
 hments will be served. \n\nIn addition\, view Lynn Shield's 'Colors of the
  Wild' exhibition in the north gallery. Lynn is a member of CCAG who lives
  in Billings and loves to work in bright colors using watercolors. Click t
 he link below for more information. \n\nThe 'Inspired by Song' exhibition 
 was developed in conjunction with the Red Lodge Songwriters Festival. For 
 information on the Songwriters Festival see link below. \n\nThe exhibition
 s are organized by the Carbon County Arts Guild & Depot Gallery which is f
 unded in part by coal severance taxes paid based upon coal mined in Montan
 a and deposited in Montana's cultural and aesthetic projects trust fund.\n
 \nThe Carbon County Arts Guild & Depot Gallery provides access to art\, su
 pports artistic expression\, and encourages creative experiences for the e
 nrichment of our communities. \n
X-WR-RELCALID:5a19cf9b64632c042d2ee396ca5bce41
X-WR-TIMEZONE:America/Denver
BEGIN:VTIMEZONE
TZID:America/Denver
BEGIN:STANDARD
TZNAME:MST
DTSTART:20241103T020000
TZOFFSETFROM:-0600
TZOFFSETTO:-0700
RDATE:20251102T020000
RDATE:20261101T020000
END:STANDARD
BEGIN:DAYLIGHT
TZNAME:MDT
DTSTART:20250309T020000
TZOFFSETFROM:-0700
TZOFFSETTO:-0600
RDATE:20260308T020000
END:DAYLIGHT
END:VTIMEZONE
BEGIN:VEVENT
UID:3d5fefaf-381f-4f21-814f-46fd4aaa5b79
DTSTAMP:20260425T014123Z
DESCRIPTION:On June 14\, artists participating in the 'Inspired By Song' ex
 hibition will be on hand to visit with the public about the music that was
  the inspiration for their work which is on view in the main gallery throu
 gh June 21. Guests can use a QR code to listen to the music while looking 
 at the art. View pastel\, oil\, and watercolor paintings as well as sculpt
 ure\, drawings\, and mixed media work. The songs of inspiration range from
  Bach to The Chicks to John Denver to Pink Floyd.  \n\nThere will be speci
 al demonstrations during the afternoon of Red Lodge Art Walk which is also
  June 14 from 2-6 p.m.\n\nEcho Ukrainetz will demonstrate how she uses the
  wax-resist process of batik to create beautiful pieces of art. Ron Ukrain
 etz will demonstrate Claybord™ engraving. Echo and Ron are CCAG members fr
 om Great Falls\, Montana.\n\nThe 'Inspired by Song' exhibition\, Art Walk\
 , art demos\, and reception are free and open to the public. Light refresh
 ments will be served. \n\nIn addition\, view Lynn Shield's 'Colors of the 
 Wild' exhibition in the north gallery. Lynn is a member of CCAG who lives 
 in Billings and loves to work in bright colors using watercolors. Click th
 e link below for more information. \n\nThe 'Inspired by Song' exhibition w
 as developed in conjunction with the Red Lodge Songwriters Festival. For i
 nformation on the Songwriters Festival see link below. \n\nThe exhibitions
  are organized by the Carbon County Arts Guild & Depot Gallery which is fu
 nded in part by coal severance taxes paid based upon coal mined in Montana
  and deposited in Montana's cultural and aesthetic projects trust fund.\n
 \nThe Carbon County Arts Guild & Depot Gallery provides access to art\, su
 pports artistic expression\, and encourages creative experiences for the e
 nrichment of our communities. \n
DTSTART;TZID=America/Denver:20250614T140000
DTEND;TZID=America/Denver:20250614T180000
LOCATION:
SUMMARY:ART WALK Demos & 'Inspired By Song' Exhibition Reception
END:VEVENT
END:VCALENDAR
