BEGIN:VCALENDAR
VERSION:2.0
PRODID:-//carboncountydepotgallery.org//NONSGML kigkonsult.se iCalcreator 2
 .30.10//
CALSCALE:GREGORIAN
METHOD:PUBLISH
UID:eb8d3dc7-67bb-4f1e-8282-925ebd2a7aa3
X-WR-CALDESC:Mural Painting with Janice Polzin\nHelp the Guild get ready fo
 r summer! Ms. 'J' will gude students in making a fun\, colorful mural to b
 e displayed on the Arts Guild building for the summer.\nFor students age 7
 +\n$100 for all 4 days - meets M-Thur from 9-11:30 am\nScholarships availa
 ble\, please contact us for details\n\nTo register\, please call 406-446-1
 370 or stop by during regular business hours
X-WR-RELCALID:0535b2e90254850c06e4def09761910e
X-WR-TIMEZONE:America/Denver
BEGIN:VTIMEZONE
TZID:America/Denver
BEGIN:STANDARD
TZNAME:MST
DTSTART:20241103T020000
TZOFFSETFROM:-0600
TZOFFSETTO:-0700
RDATE:20251102T020000
RDATE:20261101T020000
END:STANDARD
BEGIN:DAYLIGHT
TZNAME:MDT
DTSTART:20250309T020000
TZOFFSETFROM:-0700
TZOFFSETTO:-0600
RDATE:20260308T020000
END:DAYLIGHT
END:VTIMEZONE
BEGIN:VEVENT
UID:d0e1b706-711e-4122-8b2d-1a2089d41982
DTSTAMP:20260425T014558Z
DESCRIPTION:Mural Painting with Janice Polzin\nHelp the Guild get ready for
  summer! Ms. 'J' will gude students in making a fun\, colorful mural to be
  displayed on the Arts Guild building for the summer.\nFor students age 7+
 \n$100 for all 4 days - meets M-Thur from 9-11:30 am\nScholarships availab
 le\, please contact us for details\n\nTo register\, please call 406-446-13
 70 or stop by during regular business hours
DTSTART;TZID=America/Denver:20250616T090000
DTEND;TZID=America/Denver:20250616T113000
LOCATION:
SUMMARY:Student Art Camp Week: Mural Painting
END:VEVENT
END:VCALENDAR
