BEGIN:VCALENDAR
VERSION:2.0
PRODID:-//carboncountydepotgallery.org//NONSGML kigkonsult.se iCalcreator 2
 .30.10//
CALSCALE:GREGORIAN
METHOD:PUBLISH
UID:7ff19442-2dba-4ab8-a7c6-f264f2a2762a
X-WR-CALDESC:Join us for an inspiring night of art and storytelling with ac
 claimed wildlife artist and Red Lodge resident\, John Potter.  Includes a 
 Wildlife Painting Demo\, Artist Talk & Q&A and Light Refreshments.\n\nSpac
 e is limited. The event is free but RSVP Required\n\n6:00 - 6:30 pm -- Art
  Demo & light refreshments\n6:30 - 7:00 pm -- Storytelling presentation & 
 Q&A\n7:00 - 8:00 pm -- Social Hour
X-WR-RELCALID:29a51ea8a79dd51f7c1d768b9a746d81
X-WR-TIMEZONE:America/Denver
BEGIN:VTIMEZONE
TZID:America/Denver
BEGIN:STANDARD
TZNAME:MST
DTSTART:20241103T020000
TZOFFSETFROM:-0600
TZOFFSETTO:-0700
RDATE:20251102T020000
RDATE:20261101T020000
END:STANDARD
BEGIN:DAYLIGHT
TZNAME:MDT
DTSTART:20250309T020000
TZOFFSETFROM:-0700
TZOFFSETTO:-0600
RDATE:20260308T020000
END:DAYLIGHT
END:VTIMEZONE
BEGIN:VEVENT
UID:f2fdbda6-1d88-46d4-88bc-e7be5eca7391
DTSTAMP:20260425T014849Z
DESCRIPTION:Join us for an inspiring night of art and storytelling with acc
 laimed wildlife artist and Red Lodge resident\, John Potter.  Includes a W
 ildlife Painting Demo\, Artist Talk & Q&A and Light Refreshments.\n\nSpace
  is limited. The event is free but RSVP Required\n\n6:00 - 6:30 pm -- Art 
 Demo & light refreshments\n6:30 - 7:00 pm -- Storytelling presentation & Q
 &A\n7:00 - 8:00 pm -- Social Hour
DTSTART;TZID=America/Denver:20250620T180000
DTEND;TZID=America/Denver:20250620T200000
LOCATION:
SUMMARY:SOLD OUT Brushstrokes of the Wild: An evening of Art and Storytelli
 ng with John Potter
END:VEVENT
END:VCALENDAR
