BEGIN:VCALENDAR
VERSION:2.0
PRODID:-//carboncountydepotgallery.org//NONSGML kigkonsult.se iCalcreator 2
 .30.10//
CALSCALE:GREGORIAN
METHOD:PUBLISH
UID:cb2819ca-bef2-4318-b069-7ce94bdd54d7
X-WR-CALDESC:Visit with artists and preview art that is part of the Art in 
 the Beartooths Silent Auction. This annual event is a fundraiser for the p
 rograms\, exhibitions\, scholarships\, and educational outreach organized 
 by the Carbon County Arts Guild. The preview includes appetizers\, beverag
 es\, a wine-pull\, and brief gallery talks throughout the evening by a few
  of the artists with work in the silent auction. \n\nThere are sixty-three
  pieces to bid on. All bidding takes place online starting at 6 p.m. and e
 nds at 7 p.m. on July 14.\n\nThe preview is free and open to our event spo
 nsors\, members of the Arts Guild and the participating silent auction art
 ists. \n\nPresenting Sponsor: Barbara Ostrum\nPlatinum Sponsor: Jo Ann Ede
 r\nSilver Sponsor: Coal Creek Realty & Property Management\, Paul Hart & K
 im Kapalka\nBronze Sponsors: Baldwin's Landscaping\, Cafe Regis\, HUB Inte
 rnational\, and Diane Zook. \n\nArt in the Beartooths Silent Auction exhib
 ition and online bidding will be open to the public June 27-July 14\, 2025
 . \n\nFor information or if you would like to be a sponsor call the Depot 
 Gallery at (406) 446-1370.
X-WR-RELCALID:37ed4c67d33ce78abb12e5f852698e2b
X-WR-TIMEZONE:America/Denver
BEGIN:VTIMEZONE
TZID:America/Denver
BEGIN:STANDARD
TZNAME:MST
DTSTART:20241103T020000
TZOFFSETFROM:-0600
TZOFFSETTO:-0700
RDATE:20251102T020000
RDATE:20261101T020000
END:STANDARD
BEGIN:DAYLIGHT
TZNAME:MDT
DTSTART:20250309T020000
TZOFFSETFROM:-0700
TZOFFSETTO:-0600
RDATE:20260308T020000
END:DAYLIGHT
END:VTIMEZONE
BEGIN:VEVENT
UID:f492915a-d446-4952-be02-5e628e188c90
DTSTAMP:20260425T014948Z
DESCRIPTION:Visit with artists and preview art that is part of the Art in t
 he Beartooths Silent Auction. This annual event is a fundraiser for the pr
 ograms\, exhibitions\, scholarships\, and educational outreach organized b
 y the Carbon County Arts Guild. The preview includes appetizers\, beverage
 s\, a wine-pull\, and brief gallery talks throughout the evening by a few 
 of the artists with work in the silent auction. \n\nThere are sixty-three 
 pieces to bid on. All bidding takes place online starting at 6 p.m. and en
 ds at 7 p.m. on July 14.\n\nThe preview is free and open to our event spon
 sors\, members of the Arts Guild and the participating silent auction arti
 sts. \n\nPresenting Sponsor: Barbara Ostrum\nPlatinum Sponsor: Jo Ann Eder
 \nSilver Sponsor: Coal Creek Realty & Property Management\, Paul Hart & Ki
 m Kapalka\nBronze Sponsors: Baldwin's Landscaping\, Cafe Regis\, HUB Inter
 national\, and Diane Zook. \n\nArt in the Beartooths Silent Auction exhibi
 tion and online bidding will be open to the public June 27-July 14\, 2025.
  \n\nFor information or if you would like to be a sponsor call the Depot G
 allery at (406) 446-1370.
DTSTART;TZID=America/Denver:20250626T170000
DTEND;TZID=America/Denver:20250626T190000
LOCATION:
SUMMARY:MEMBERS & SPONSORS Preview- Art in the Beartooths Silent Auction
END:VEVENT
END:VCALENDAR
