BEGIN:VCALENDAR
VERSION:2.0
PRODID:-//carboncountydepotgallery.org//NONSGML kigkonsult.se iCalcreator 2
 .30.10//
CALSCALE:GREGORIAN
METHOD:PUBLISH
UID:f41138e7-ebed-4813-bed1-283676996eab
X-WR-CALDESC:View and bid on over 60 artworks from regional artists. View i
 n person at the Depot Gallery or online at the link below. All bidding is 
 done online through the link. Bids start as low as $25. Auction will be op
 en until 7 pm MST July 14th.
X-WR-RELCALID:53fd68921e1be36dc6537fd2f9adef49
X-WR-TIMEZONE:America/Denver
BEGIN:VTIMEZONE
TZID:America/Denver
BEGIN:STANDARD
TZNAME:MST
DTSTART:20241103T020000
TZOFFSETFROM:-0600
TZOFFSETTO:-0700
RDATE:20251102T020000
RDATE:20261101T020000
END:STANDARD
BEGIN:DAYLIGHT
TZNAME:MDT
DTSTART:20250309T020000
TZOFFSETFROM:-0700
TZOFFSETTO:-0600
RDATE:20260308T020000
END:DAYLIGHT
END:VTIMEZONE
BEGIN:VEVENT
UID:9db9636d-d192-484a-ad92-1ebec4e01ff4
DTSTAMP:20260425T013945Z
DESCRIPTION:View and bid on over 60 artworks from regional artists. View in
  person at the Depot Gallery or online at the link below. All bidding is d
 one online through the link. Bids start as low as $25. Auction will be ope
 n until 7 pm MST July 14th.
DTSTART;TZID=America/Denver:20250627T130000
DTEND;TZID=America/Denver:20250714T190000
LOCATION:
SUMMARY:Art in the Beartooths Silent Auction
END:VEVENT
END:VCALENDAR
