BEGIN:VCALENDAR
VERSION:2.0
PRODID:-//carboncountydepotgallery.org//NONSGML kigkonsult.se iCalcreator 2
 .30.10//
CALSCALE:GREGORIAN
METHOD:PUBLISH
UID:f137e708-1f0a-4cbe-b859-8429dcc5a4e5
X-WR-CALDESC:ONLINE TICKET SALES CLOSED - Call for ticket availability\n\nO
 n July 12\, 2025\, the Carbon County Arts Guild & Depot Gallery will host 
 the 52nd Art in the Beartooths Quick Draw and Live Auction fundraiser. \n
 \nThis exciting event is back in Lions Park. Artists will start and finish
  a work of art in two hours. Immediately after the art is created\, guests
  will gather under the tent for food\, drink and music in preparation for 
 the live auction. \n\nArtists participating include: Afton\, Maggie Basset
 t\, Amber Blazina\, Liz Chappie-Zoller\, Dwight Cushman\, Elliott Eaton\, 
 Kathleen Houseman\, Lance Johnson\, John Kennedy\, Michael Kosorok\, Tess 
 Lehman\, Elyssa Leininger\, Steven Oiestad\, Pat Olding\, Janice Polzin\, 
 John Potter\, Sydney Rajchel\, Lynn Shield\, Trish Stevenson\, and Tom Wol
 fe.\n\nIn addition to the Live Auction Event\, Art in the Beartooths will 
 conduct a silent auction sale and exhibition with all bidding done online.
  The silent auction art can be viewed in person at the Depot Gallery\, 11 
 West 8th Street\, Red Lodge from June 27-July 14\, 2025\n\nThese two event
 s are part of the Art in the Beartooths fundraiser showcasing artists' wor
 k from the region to raise money in support of the year-round programs\, s
 cholarships\, and changing exhibitions that the Carbon County Arts Guild o
 ffers. \n\nTickets are $70 each or a table of 8 for $500. For information 
 or to purchase tickets call (406) 446-1370.
X-WR-RELCALID:b6751b3b8e846b27c440b2d5c8f8b35d
X-WR-TIMEZONE:America/Denver
BEGIN:VTIMEZONE
TZID:America/Denver
BEGIN:STANDARD
TZNAME:MST
DTSTART:20241103T020000
TZOFFSETFROM:-0600
TZOFFSETTO:-0700
RDATE:20251102T020000
RDATE:20261101T020000
END:STANDARD
BEGIN:DAYLIGHT
TZNAME:MDT
DTSTART:20250309T020000
TZOFFSETFROM:-0700
TZOFFSETTO:-0600
RDATE:20260308T020000
END:DAYLIGHT
END:VTIMEZONE
BEGIN:VEVENT
UID:5f588fd7-bae1-4ea7-adff-f29cbb280c24
DTSTAMP:20260425T001259Z
DESCRIPTION:ONLINE TICKET SALES CLOSED - Call for ticket availability\n\nOn
  July 12\, 2025\, the Carbon County Arts Guild & Depot Gallery will host t
 he 52nd Art in the Beartooths Quick Draw and Live Auction fundraiser. \n\n
 This exciting event is back in Lions Park. Artists will start and finish a
  work of art in two hours. Immediately after the art is created\, guests w
 ill gather under the tent for food\, drink and music in preparation for th
 e live auction. \n\nArtists participating include: Afton\, Maggie Bassett\
 , Amber Blazina\, Liz Chappie-Zoller\, Dwight Cushman\, Elliott Eaton\, Ka
 thleen Houseman\, Lance Johnson\, John Kennedy\, Michael Kosorok\, Tess Le
 hman\, Elyssa Leininger\, Steven Oiestad\, Pat Olding\, Janice Polzin\, Jo
 hn Potter\, Sydney Rajchel\, Lynn Shield\, Trish Stevenson\, and Tom Wolfe
 .\n\nIn addition to the Live Auction Event\, Art in the Beartooths will co
 nduct a silent auction sale and exhibition with all bidding done online. T
 he silent auction art can be viewed in person at the Depot Gallery\, 11 We
 st 8th Street\, Red Lodge from June 27-July 14\, 2025\n\nThese two events 
 are part of the Art in the Beartooths fundraiser showcasing artists' work 
 from the region to raise money in support of the year-round programs\, sch
 olarships\, and changing exhibitions that the Carbon County Arts Guild off
 ers. \n\nTickets are $70 each or a table of 8 for $500. For information or
  to purchase tickets call (406) 446-1370.
DTSTART;TZID=America/Denver:20250712T160000
DTEND;TZID=America/Denver:20250712T200000
LOCATION:
SUMMARY:Quick Draw & Live Auction CALL for Ticket Availability
END:VEVENT
END:VCALENDAR
