BEGIN:VCALENDAR
VERSION:2.0
PRODID:-//carboncountydepotgallery.org//NONSGML kigkonsult.se iCalcreator 2
 .30.10//
CALSCALE:GREGORIAN
METHOD:PUBLISH
UID:fed21257-5690-4088-8bd9-ba18edecba46
X-WR-CALDESC:Start at the Carbon County Arts Guild & Depot Gallery\, which 
 is located on Oakes and 8th Street in the historic train depot at the nort
 h end of town. Then\, walk along Broadway clear down to the Roosevelt Cent
 er taking time to visit other businesses and organizations participating i
 n the Red Lodge Art Walk. Various activities will be taking place at each 
 stop. \n\nThis event is free and open to the public.
X-WR-RELCALID:0e0b74487b21a6947cf1333f90207f12
X-WR-TIMEZONE:America/Denver
BEGIN:VTIMEZONE
TZID:America/Denver
BEGIN:STANDARD
TZNAME:MST
DTSTART:20241103T020000
TZOFFSETFROM:-0600
TZOFFSETTO:-0700
RDATE:20251102T020000
RDATE:20261101T020000
END:STANDARD
BEGIN:DAYLIGHT
TZNAME:MDT
DTSTART:20250309T020000
TZOFFSETFROM:-0700
TZOFFSETTO:-0600
RDATE:20260308T020000
END:DAYLIGHT
END:VTIMEZONE
BEGIN:VEVENT
UID:d7085849-55c9-4625-80c2-7e2d5f3dc7b5
DTSTAMP:20260424T222618Z
DESCRIPTION:Start at the Carbon County Arts Guild & Depot Gallery\, which i
 s located on Oakes and 8th Street in the historic train depot at the north
  end of town. Then\, walk along Broadway clear down to the Roosevelt Cente
 r taking time to visit other businesses and organizations participating in
  the Red Lodge Art Walk. Various activities will be taking place at each s
 top. \n\nThis event is free and open to the public.
DTSTART;TZID=America/Denver:20250809T140000
DTEND;TZID=America/Denver:20250809T180000
LOCATION:
SUMMARY:ART WALK
END:VEVENT
END:VCALENDAR
