BEGIN:VCALENDAR
VERSION:2.0
PRODID:-//carboncountydepotgallery.org//NONSGML kigkonsult.se iCalcreator 2
 .30.10//
CALSCALE:GREGORIAN
METHOD:PUBLISH
UID:a3150a94-c4e3-4f0b-b866-94dd5d7e7364
X-WR-CALDESC:Meet the artists and view the art by Pat Olding (main gallery)
  and Bruce Marty (north classroom gallery) with a gallery talk at 3 p.m.  
 Light refreshments will be served. The reception is free and open to the p
 ublic.
X-WR-RELCALID:cf431122b9313b64991078af9db27fb4
X-WR-TIMEZONE:America/Denver
BEGIN:VTIMEZONE
TZID:America/Denver
BEGIN:STANDARD
TZNAME:MST
DTSTART:20241103T020000
TZOFFSETFROM:-0600
TZOFFSETTO:-0700
RDATE:20251102T020000
RDATE:20261101T020000
END:STANDARD
BEGIN:DAYLIGHT
TZNAME:MDT
DTSTART:20250309T020000
TZOFFSETFROM:-0700
TZOFFSETTO:-0600
RDATE:20260308T020000
END:DAYLIGHT
END:VTIMEZONE
BEGIN:VEVENT
UID:2323720c-7f67-4f11-83ab-7fd80a89f2f3
DTSTAMP:20260424T223000Z
DESCRIPTION:Meet the artists and view the art by Pat Olding (main gallery) 
 and Bruce Marty (north classroom gallery) with a gallery talk at 3 p.m.  L
 ight refreshments will be served. The reception is free and open to the pu
 blic.
DTSTART;TZID=America/Denver:20250809T140000
DTEND;TZID=America/Denver:20250809T160000
LOCATION:
SUMMARY:Exhibition Reception for Pat Olding and Bruce Marty
END:VEVENT
END:VCALENDAR
