BEGIN:VCALENDAR
VERSION:2.0
PRODID:-//carboncountydepotgallery.org//NONSGML kigkonsult.se iCalcreator 2
 .30.10//
CALSCALE:GREGORIAN
METHOD:PUBLISH
UID:b32406c2-75c1-4111-b956-824c4c774142
X-WR-CALDESC:Artists will provide insight about their work during a short g
 allery talk.
X-WR-RELCALID:74aa510ca16d4cbae9087a9df795a36c
X-WR-TIMEZONE:America/Denver
BEGIN:VTIMEZONE
TZID:America/Denver
BEGIN:STANDARD
TZNAME:MST
DTSTART:20241103T020000
TZOFFSETFROM:-0600
TZOFFSETTO:-0700
RDATE:20251102T020000
RDATE:20261101T020000
END:STANDARD
BEGIN:DAYLIGHT
TZNAME:MDT
DTSTART:20250309T020000
TZOFFSETFROM:-0700
TZOFFSETTO:-0600
RDATE:20260308T020000
END:DAYLIGHT
END:VTIMEZONE
BEGIN:VEVENT
UID:72673ea5-fe47-4ad1-ac77-2a695c9707c5
DTSTAMP:20260424T222556Z
DESCRIPTION:Artists will provide insight about their work during a short ga
 llery talk.
DTSTART;TZID=America/Denver:20250809T150000
DTEND;TZID=America/Denver:20250809T153000
LOCATION:
SUMMARY:Gallery Talk
END:VEVENT
END:VCALENDAR
