BEGIN:VCALENDAR
VERSION:2.0
PRODID:-//carboncountydepotgallery.org//NONSGML kigkonsult.se iCalcreator 2
 .30.10//
CALSCALE:GREGORIAN
METHOD:PUBLISH
UID:1cda2cfb-9e68-4212-aade-d079057139d8
X-WR-CALDESC:Drawing with Janice Polzin\nLearn different ways to draw with 
 new materials and subjects each day - we'll use graphite and colored penci
 ls\, charcoal\, and pastels.\nFor students age 7+\n$100 for all 4 days - m
 eets M-Thur from 9-11:30 am\nScholarships available\, please contact us fo
 r details
X-WR-RELCALID:6abbf6b00814e8728c7a19c22e4eb316
X-WR-TIMEZONE:America/Denver
BEGIN:VTIMEZONE
TZID:America/Denver
BEGIN:STANDARD
TZNAME:MST
DTSTART:20241103T020000
TZOFFSETFROM:-0600
TZOFFSETTO:-0700
RDATE:20251102T020000
RDATE:20261101T020000
END:STANDARD
BEGIN:DAYLIGHT
TZNAME:MDT
DTSTART:20250309T020000
TZOFFSETFROM:-0700
TZOFFSETTO:-0600
RDATE:20260308T020000
END:DAYLIGHT
END:VTIMEZONE
BEGIN:VEVENT
UID:c3ae7f54-9412-47b1-85ce-cc8288c2edb8
DTSTAMP:20260424T222715Z
DESCRIPTION:Drawing with Janice Polzin\nLearn different ways to draw with n
 ew materials and subjects each day - we'll use graphite and colored pencil
 s\, charcoal\, and pastels.\nFor students age 7+\n$100 for all 4 days - me
 ets M-Thur from 9-11:30 am\nScholarships available\, please contact us for
  details
DTSTART;TZID=America/Denver:20250811T090000
DTEND;TZID=America/Denver:20250811T113000
LOCATION:
SUMMARY:Student Art Camp Week: Drawing - CLASS FULL
END:VEVENT
END:VCALENDAR
