BEGIN:VCALENDAR
VERSION:2.0
PRODID:-//carboncountydepotgallery.org//NONSGML kigkonsult.se iCalcreator 2
 .30.10//
CALSCALE:GREGORIAN
METHOD:PUBLISH
UID:cd50d391-3414-430a-837c-b5b482909dfb
X-WR-CALDESC:The annual Labor Day Arts Fair brings unique\, hand crafted\, 
 original art and crafts to visitors and unites them with the artist. With 
 over 80 artisan booths\, it is a great place to buy local and regional han
 d made items as a gift or for yourself.\n\nAlso enjoy live entertainment\,
  artists demos\, and a variety of food trucks at this FREE\, FUN event in 
 Lions Park\, adjacent to the historic train depot at 11 West 8th Street\, 
 in Red Lodge\, Montana.\n\nStaying in Red Lodge? Please visit the link bel
 ow for more information on lodging for your visit!\n\nTHANK YOU to our Eve
 nt Sponsors: First Interstate Bank\, Republic Services and Red Lodge Touri
 sm Business Improvement District.
X-WR-RELCALID:c4367d23748937531951d3459f9bbe22
X-WR-TIMEZONE:America/Denver
BEGIN:VTIMEZONE
TZID:America/Denver
BEGIN:STANDARD
TZNAME:MST
DTSTART:20241103T020000
TZOFFSETFROM:-0600
TZOFFSETTO:-0700
RDATE:20251102T020000
RDATE:20261101T020000
END:STANDARD
BEGIN:DAYLIGHT
TZNAME:MDT
DTSTART:20250309T020000
TZOFFSETFROM:-0700
TZOFFSETTO:-0600
RDATE:20260308T020000
END:DAYLIGHT
END:VTIMEZONE
BEGIN:VEVENT
UID:ccf6084f-aba1-42b5-aedc-1292033dec74
DTSTAMP:20260424T210024Z
DESCRIPTION:The annual Labor Day Arts Fair brings unique\, hand crafted\, o
 riginal art and crafts to visitors and unites them with the artist. With o
 ver 80 artisan booths\, it is a great place to buy local and regional hand
  made items as a gift or for yourself.\n\nAlso enjoy live entertainment\, 
 artists demos\, and a variety of food trucks at this FREE\, FUN event in L
 ions Park\, adjacent to the historic train depot at 11 West 8th Street\, i
 n Red Lodge\, Montana.\n\nStaying in Red Lodge? Please visit the link belo
 w for more information on lodging for your visit!\n\nTHANK YOU to our Even
 t Sponsors: First Interstate Bank\, Republic Services and Red Lodge Touris
 m Business Improvement District.
DTSTART;TZID=America/Denver:20250901T090000
DTEND;TZID=America/Denver:20250901T160000
LOCATION:Lions Park\, Red Lodge
SUMMARY:Labor Day Arts Fair
END:VEVENT
END:VCALENDAR
