BEGIN:VCALENDAR
VERSION:2.0
PRODID:-//carboncountydepotgallery.org//NONSGML kigkonsult.se iCalcreator 2
 .30.10//
CALSCALE:GREGORIAN
METHOD:PUBLISH
UID:14ad2de3-15f8-4bf6-ae16-3ae04cc1694a
X-WR-CALDESC:Have you recently upgraded to a digital or mirrorless camera a
 nd love photographing wildlife? Or do you have a good eye but find your an
 imal photos aren't turning out as you envisioned? If so\, this class is fo
 r you!\n\nDesigned for upper beginners and serious hobbyists\, this course
  is perfect for those who want to elevate their nature photography skills 
 and own more than a basic point-and-shoot camera. The seminar will focus o
 n wildlife photography fundamentals\, including equipment\, composition\, 
 depth of field\, histograms\, light compensation\, and autofocus\, as well
  as advanced techniques to refine your craft.\n\nThis is a three-part semi
 nar:\n1. Classroom Instruction: Learn the essentials of wildlife photograp
 hy.\n2. Field Session: Apply your skills in a short outdoor shoot\, practi
 cing techniques from the classroom.\n3. Image Review and Workflow: Return 
 to the classroom to review your photos and explore digital editing using A
 dobe Photoshop.\n\nBy the end of this course\, students will have a solid 
 understanding of their camera's basic operations\, essential photography t
 erminology\, and the techniques needed to capture outstanding wildlife pho
 tos for both print and digital platforms.\n\nRequirements:\n• A digital or
  mirrorless camera\n• Recommended: Your camera manual and familiarity with
  your camera’s buttons and settings\n\nCost: $185 CCAG members\, $200 Non-
 members\nClass limited to 10 people
X-WR-RELCALID:9b9512b809caba1e8065c70500aec7a6
X-WR-TIMEZONE:America/Denver
BEGIN:VTIMEZONE
TZID:America/Denver
BEGIN:STANDARD
TZNAME:MST
DTSTART:20241103T020000
TZOFFSETFROM:-0600
TZOFFSETTO:-0700
RDATE:20251102T020000
RDATE:20261101T020000
END:STANDARD
BEGIN:DAYLIGHT
TZNAME:MDT
DTSTART:20250309T020000
TZOFFSETFROM:-0700
TZOFFSETTO:-0600
RDATE:20260308T020000
RDATE:20270314T020000
END:DAYLIGHT
END:VTIMEZONE
BEGIN:VEVENT
UID:97f64f79-b05d-4a55-a238-c844f135f354
DTSTAMP:20260424T205849Z
DESCRIPTION:Have you recently upgraded to a digital or mirrorless camera an
 d love photographing wildlife? Or do you have a good eye but find your ani
 mal photos aren't turning out as you envisioned? If so\, this class is for
  you!\n\nDesigned for upper beginners and serious hobbyists\, this course 
 is perfect for those who want to elevate their nature photography skills a
 nd own more than a basic point-and-shoot camera. The seminar will focus on
  wildlife photography fundamentals\, including equipment\, composition\, d
 epth of field\, histograms\, light compensation\, and autofocus\, as well 
 as advanced techniques to refine your craft.\n\nThis is a three-part semin
 ar:\n1. Classroom Instruction: Learn the essentials of wildlife photograph
 y.\n2. Field Session: Apply your skills in a short outdoor shoot\, practic
 ing techniques from the classroom.\n3. Image Review and Workflow: Return t
 o the classroom to review your photos and explore digital editing using Ad
 obe Photoshop.\n\nBy the end of this course\, students will have a solid u
 nderstanding of their camera's basic operations\, essential photography te
 rminology\, and the techniques needed to capture outstanding wildlife phot
 os for both print and digital platforms.\n\nRequirements:\n• A digital or 
 mirrorless camera\n• Recommended: Your camera manual and familiarity with 
 your camera’s buttons and settings\n\nCost: $185 CCAG members\, $200 Non-m
 embers\nClass limited to 10 people
DTSTART;TZID=America/Denver:20250920T093000
DTEND;TZID=America/Denver:20250920T160000
LOCATION:
SUMMARY:Essentials of Wildlife Photography w/Ken Conger
END:VEVENT
END:VCALENDAR
