BEGIN:VCALENDAR
VERSION:2.0
PRODID:-//carboncountydepotgallery.org//NONSGML kigkonsult.se iCalcreator 2
 .30.10//
CALSCALE:GREGORIAN
METHOD:PUBLISH
UID:bc29daa2-e8fe-4e61-ab78-a2be628127c5
X-WR-CALDESC:Bring your own supplies and sketch\, draw or paint from a clot
 hed model.\nAll skill levels welcome.\n\nNo Registration needed\nFREE for 
 CCAG members and students 18 and under. $5 for non-members\n
X-WR-RELCALID:7ba9a720c64da4e814044bf74f5792a1
X-WR-TIMEZONE:America/Denver
BEGIN:VTIMEZONE
TZID:America/Denver
BEGIN:STANDARD
TZNAME:MST
DTSTART:20241103T020000
TZOFFSETFROM:-0600
TZOFFSETTO:-0700
RDATE:20251102T020000
RDATE:20261101T020000
END:STANDARD
BEGIN:DAYLIGHT
TZNAME:MDT
DTSTART:20250309T020000
TZOFFSETFROM:-0700
TZOFFSETTO:-0600
RDATE:20260308T020000
RDATE:20270314T020000
END:DAYLIGHT
END:VTIMEZONE
BEGIN:VEVENT
UID:f45b7703-e129-4789-a1f3-4d8c3ebdcc4b
DTSTAMP:20260424T205620Z
DESCRIPTION:Bring your own supplies and sketch\, draw or paint from a cloth
 ed model.\nAll skill levels welcome.\n\nNo Registration needed\nFREE for C
 CAG members and students 18 and under. $5 for non-members\n
DTSTART;TZID=America/Denver:20250921T140000
DTEND;TZID=America/Denver:20250921T160000
LOCATION:
SUMMARY:Open Studio - Figure Drawing
END:VEVENT
END:VCALENDAR
