BEGIN:VCALENDAR
VERSION:2.0
PRODID:-//carboncountydepotgallery.org//NONSGML kigkonsult.se iCalcreator 2
 .30.10//
CALSCALE:GREGORIAN
METHOD:PUBLISH
UID:554ab03d-f860-4238-945a-4da9f3eeb39a
X-WR-CALDESC:FREE TO THE PUBLIC\nStop by and create a 6x6 piece for our Com
 munity Mystery Artist Exhibition!\n\nWe'll have supplies and 6x6 panels re
 ady for you to get creative with us! Anything goes here - drawing\, painti
 ng\, collage or mix it up.\n\nAll ages welcome!  No experience necessary -
  just a desire to have a little fun!\nRemember... it's a mystery show so n
 o one knows who created it \;)
X-WR-RELCALID:5b635720cbf5332184268c5934711c90
X-WR-TIMEZONE:America/Denver
BEGIN:VTIMEZONE
TZID:America/Denver
BEGIN:STANDARD
TZNAME:MST
DTSTART:20241103T020000
TZOFFSETFROM:-0600
TZOFFSETTO:-0700
RDATE:20251102T020000
RDATE:20261101T020000
END:STANDARD
BEGIN:DAYLIGHT
TZNAME:MDT
DTSTART:20250309T020000
TZOFFSETFROM:-0700
TZOFFSETTO:-0600
RDATE:20260308T020000
RDATE:20270314T020000
END:DAYLIGHT
END:VTIMEZONE
BEGIN:VEVENT
UID:50fb61f3-62a9-474e-a315-38bd20ff8989
DTSTAMP:20260424T193414Z
DESCRIPTION:FREE TO THE PUBLIC\nStop by and create a 6x6 piece for our Comm
 unity Mystery Artist Exhibition!\n\nWe'll have supplies and 6x6 panels rea
 dy for you to get creative with us! Anything goes here - drawing\, paintin
 g\, collage or mix it up.\n\nAll ages welcome!  No experience necessary - 
 just a desire to have a little fun!\nRemember... it's a mystery show so no
  one knows who created it \;)
DTSTART;TZID=America/Denver:20251011T140000
DTEND;TZID=America/Denver:20251011T180000
LOCATION:
SUMMARY:6x6 Comunity Mystery Artist ART WALK activity
END:VEVENT
END:VCALENDAR
