BEGIN:VCALENDAR
VERSION:2.0
PRODID:-//carboncountydepotgallery.org//NONSGML kigkonsult.se iCalcreator 2
 .30.10//
CALSCALE:GREGORIAN
METHOD:PUBLISH
UID:1954989f-5a73-434b-86e4-33f1789f4192
X-WR-CALDESC:Join instructor Dominique Paulus to learn the techniques and t
 ips to write in the Chancery Cursive Calligraphy style and create a decora
 tive quote to frame.\n\n6 Saturdays\nOctober 18 - November 22\n1-2:30 pm e
 ach session\n\n$70 for CCAG members\n$80 for non-member\nAll supplies incl
 uded  ~~~ no experience needed!
X-WR-RELCALID:7bd2d52daba4a269d93ef399fd18febb
X-WR-TIMEZONE:America/Denver
BEGIN:VTIMEZONE
TZID:America/Denver
BEGIN:STANDARD
TZNAME:MST
DTSTART:20241103T020000
TZOFFSETFROM:-0600
TZOFFSETTO:-0700
RDATE:20251102T020000
RDATE:20261101T020000
END:STANDARD
BEGIN:DAYLIGHT
TZNAME:MDT
DTSTART:20250309T020000
TZOFFSETFROM:-0700
TZOFFSETTO:-0600
RDATE:20260308T020000
RDATE:20270314T020000
END:DAYLIGHT
END:VTIMEZONE
BEGIN:VEVENT
UID:d290bb80-7b0f-4ce5-9a93-b7e0fe2f5144
DTSTAMP:20260424T192955Z
DESCRIPTION:Join instructor Dominique Paulus to learn the techniques and ti
 ps to write in the Chancery Cursive Calligraphy style and create a decorat
 ive quote to frame.\n\n6 Saturdays\nOctober 18 - November 22\n1-2:30 pm ea
 ch session\n\n$70 for CCAG members\n$80 for non-member\nAll supplies inclu
 ded  ~~~ no experience needed!
DTSTART;TZID=America/Denver:20251018T130000
DTEND;TZID=America/Denver:20251018T143000
LOCATION:
SUMMARY:Beginning Calligraphy w/Dominique Paulus
END:VEVENT
END:VCALENDAR
