BEGIN:VCALENDAR
VERSION:2.0
PRODID:-//carboncountydepotgallery.org//NONSGML kigkonsult.se iCalcreator 2
 .30.10//
CALSCALE:GREGORIAN
METHOD:PUBLISH
UID:562da03e-b5b6-4de5-8884-fb6b05e17e0b
X-WR-CALDESC:Get in the HALLOWEEN SPIRIT painting with Janice Polzin. This 
 is a family friendly event\, for ages 10 and up. Paint along with Janice w
 hile you enjoy some spooky snacks and drinks.  All painting supplies provi
 ded. No experience needed\, perfect for beginners.\n\n$30 for ages 16+\, $
 20 for ages 10-15\nParticipants ages 10-15 must be accompanied by an adult
  participant.\nSeating is limited to 12.\n
X-WR-RELCALID:9d536b6bd8d317cca866bf5f448c40c3
X-WR-TIMEZONE:America/Denver
BEGIN:VTIMEZONE
TZID:America/Denver
BEGIN:STANDARD
TZNAME:MST
DTSTART:20241103T020000
TZOFFSETFROM:-0600
TZOFFSETTO:-0700
RDATE:20251102T020000
RDATE:20261101T020000
END:STANDARD
BEGIN:DAYLIGHT
TZNAME:MDT
DTSTART:20250309T020000
TZOFFSETFROM:-0700
TZOFFSETTO:-0600
RDATE:20260308T020000
RDATE:20270314T020000
END:DAYLIGHT
END:VTIMEZONE
BEGIN:VEVENT
UID:fa6af2d0-f148-4d2a-9fe3-4c1cc8f81185
DTSTAMP:20260424T193512Z
DESCRIPTION:Get in the HALLOWEEN SPIRIT painting with Janice Polzin. This i
 s a family friendly event\, for ages 10 and up. Paint along with Janice wh
 ile you enjoy some spooky snacks and drinks.  All painting supplies provid
 ed. No experience needed\, perfect for beginners.\n\n$30 for ages 16+\, $2
 0 for ages 10-15\nParticipants ages 10-15 must be accompanied by an adult 
 participant.\nSeating is limited to 12.\n
DTSTART;TZID=America/Denver:20251024T180000
DTEND;TZID=America/Denver:20251024T200000
LOCATION:
SUMMARY:Halloween Paint-n-Sip
END:VEVENT
END:VCALENDAR
