BEGIN:VCALENDAR
VERSION:2.0
PRODID:-//carboncountydepotgallery.org//NONSGML kigkonsult.se iCalcreator 2
 .30.10//
CALSCALE:GREGORIAN
METHOD:PUBLISH
UID:b4b9956e-01e6-4f62-828f-c9f896b93c38
X-WR-CALDESC:Join Absarokee weaver Susan Leaverton for this one day beginne
 r-friendly workshop to learn the basics of hand weaving on a frame loom an
 d unravel the mysteries of tabby\, twill\, soumack\, rya\, leno\, pick n’ 
 pick and more!\nParticipants will create their own 5”x10” wall hanging.\n
 \nThursday\, Nov. 6 from 10-3 pm (with a short break for lunch)\n$45 - CCA
 G Members\, $55 - Non-Members \nAll supplies provided\, no experience need
 ed.\nClass limited to 8 people.
X-WR-RELCALID:ea82172ec944a0b00154ee1ad9909f27
X-WR-TIMEZONE:America/Denver
BEGIN:VTIMEZONE
TZID:America/Denver
BEGIN:STANDARD
TZNAME:MST
DTSTART:20251102T020000
TZOFFSETFROM:-0600
TZOFFSETTO:-0700
RDATE:20261101T020000
END:STANDARD
BEGIN:DAYLIGHT
TZNAME:MDT
DTSTART:20250309T020000
TZOFFSETFROM:-0700
TZOFFSETTO:-0600
RDATE:20260308T020000
RDATE:20270314T020000
END:DAYLIGHT
END:VTIMEZONE
BEGIN:VEVENT
UID:2b6f675a-6141-4d86-a78b-9d2f41667e73
DTSTAMP:20260424T175807Z
DESCRIPTION:Join Absarokee weaver Susan Leaverton for this one day beginner
 -friendly workshop to learn the basics of hand weaving on a frame loom and
  unravel the mysteries of tabby\, twill\, soumack\, rya\, leno\, pick n’ p
 ick and more!\nParticipants will create their own 5”x10” wall hanging.\n\n
 Thursday\, Nov. 6 from 10-3 pm (with a short break for lunch)\n$45 - CCAG 
 Members\, $55 - Non-Members \nAll supplies provided\, no experience needed
 .\nClass limited to 8 people.
DTSTART;TZID=America/Denver:20251106T100000
DTEND;TZID=America/Denver:20251106T150000
LOCATION:
SUMMARY:CLASS FULL - Intro to Weaving on a Frame Loom w/Susan Leaverton
END:VEVENT
END:VCALENDAR
