BEGIN:VCALENDAR
VERSION:2.0
PRODID:-//carboncountydepotgallery.org//NONSGML kigkonsult.se iCalcreator 2
 .30.10//
CALSCALE:GREGORIAN
METHOD:PUBLISH
UID:d66de58f-b13f-416e-b0ea-57518b9a19b2
X-WR-CALDESC:The Beartooth Plein Air Society exhibition in the north galler
 y and the 8x8 Guild Member exhibition in the main gallery open today! Enjo
 y light refreshments\, view the art\, and meet the artists. The opening re
 ception is free and open to the public. \n
X-WR-RELCALID:8b1160a022d4c7f141d9093d1eed7a3f
X-WR-TIMEZONE:America/Denver
BEGIN:VTIMEZONE
TZID:America/Denver
BEGIN:STANDARD
TZNAME:MST
DTSTART:20251102T020000
TZOFFSETFROM:-0600
TZOFFSETTO:-0700
RDATE:20261101T020000
END:STANDARD
BEGIN:DAYLIGHT
TZNAME:MDT
DTSTART:20250309T020000
TZOFFSETFROM:-0700
TZOFFSETTO:-0600
RDATE:20260308T020000
RDATE:20270314T020000
END:DAYLIGHT
END:VTIMEZONE
BEGIN:VEVENT
UID:a1455f4e-f6cc-45d6-9b71-f5d45bc263b3
DTSTAMP:20260424T175854Z
DESCRIPTION:The Beartooth Plein Air Society exhibition in the north gallery
  and the 8x8 Guild Member exhibition in the main gallery open today! Enjoy
  light refreshments\, view the art\, and meet the artists. The opening rec
 eption is free and open to the public. \n
DTSTART;TZID=America/Denver:20251122T160000
DTEND;TZID=America/Denver:20251122T180000
LOCATION:11 West 8th St\, Red Lodge\, MT 59068 US
SUMMARY:OPENING Beartooth Plein Air Society & 8x8 Member Show
END:VEVENT
END:VCALENDAR
