BEGIN:VCALENDAR
VERSION:2.0
PRODID:-//carboncountydepotgallery.org//NONSGML kigkonsult.se iCalcreator 2
 .30.10//
CALSCALE:GREGORIAN
METHOD:PUBLISH
UID:2b6c8c4c-5f3d-4ee7-beb1-edaaff7112aa
X-WR-CALDESC:Party Time! \nJoin us for the fun when the pieces of art in th
 e 6'x6' exhibition are available for a $36 donation. Food\, beverages and 
 lots of fun. The artist of each piece purchased will be announced when the
  donation is made.\nFree and open to the public.
X-WR-RELCALID:116825c92115cc3b30f00fca183801d9
X-WR-TIMEZONE:America/Denver
BEGIN:VTIMEZONE
TZID:America/Denver
BEGIN:STANDARD
TZNAME:MST
DTSTART:20251102T020000
TZOFFSETFROM:-0600
TZOFFSETTO:-0700
RDATE:20261101T020000
END:STANDARD
BEGIN:DAYLIGHT
TZNAME:MDT
DTSTART:20250309T020000
TZOFFSETFROM:-0700
TZOFFSETTO:-0600
RDATE:20260308T020000
RDATE:20270314T020000
END:DAYLIGHT
END:VTIMEZONE
BEGIN:VEVENT
UID:0d3a0ec6-4061-4851-8a48-2469b5d9a392
DTSTAMP:20260424T180018Z
DESCRIPTION:Party Time! \nJoin us for the fun when the pieces of art in the
  6'x6' exhibition are available for a $36 donation. Food\, beverages and l
 ots of fun. The artist of each piece purchased will be announced when the 
 donation is made.\nFree and open to the public.
DTSTART;TZID=America/Denver:20251122T160000
DTEND;TZID=America/Denver:20251122T180000
LOCATION:
SUMMARY:PARTY- 6x6 Mystery Artist Community Show
END:VEVENT
END:VCALENDAR
