BEGIN:VCALENDAR
VERSION:2.0
PRODID:-//carboncountydepotgallery.org//NONSGML kigkonsult.se iCalcreator 2
 .30.10//
CALSCALE:GREGORIAN
METHOD:PUBLISH
UID:e879e362-d91a-4ec8-abc4-fe551814c382
X-WR-CALDESC:
X-WR-RELCALID:172e516209227d3a269376f30a5f9e7d
X-WR-TIMEZONE:America/Denver
BEGIN:VTIMEZONE
TZID:America/Denver
BEGIN:STANDARD
TZNAME:MST
DTSTART:20251102T020000
TZOFFSETFROM:-0600
TZOFFSETTO:-0700
RDATE:20261101T020000
END:STANDARD
BEGIN:DAYLIGHT
TZNAME:MDT
DTSTART:20250309T020000
TZOFFSETFROM:-0700
TZOFFSETTO:-0600
RDATE:20260308T020000
RDATE:20270314T020000
END:DAYLIGHT
END:VTIMEZONE
BEGIN:VEVENT
UID:e54753b7-1568-4eeb-81ae-8556c3c537e3
DTSTAMP:20260424T174513Z
DESCRIPTION:
DTSTART;TZID=America/Denver:20251123T040000
DTEND;TZID=America/Denver:20251227T040001
LOCATION:
SUMMARY:Beartooth Plein Air Society Exhibition
END:VEVENT
END:VCALENDAR
