BEGIN:VCALENDAR
VERSION:2.0
PRODID:-//carboncountydepotgallery.org//NONSGML kigkonsult.se iCalcreator 2
 .30.10//
CALSCALE:GREGORIAN
METHOD:PUBLISH
UID:fb46b2ac-f74a-4d4c-a9e4-3d86994ff558
X-WR-CALDESC:Mingle with artists and view the art in The Art of Birding and
  Through the Lens by Joseph Henry Sharp. Both exhibitions are on view thro
 ugh February 28\, 2026\nThe opening reception is free and open to the publ
 ic.
X-WR-RELCALID:45b35a1598257948d2a969fb17c1a9e3
X-WR-TIMEZONE:America/Denver
BEGIN:VTIMEZONE
TZID:America/Denver
BEGIN:STANDARD
TZNAME:MST
DTSTART:20251102T020000
TZOFFSETFROM:-0600
TZOFFSETTO:-0700
RDATE:20261101T020000
END:STANDARD
BEGIN:DAYLIGHT
TZNAME:MDT
DTSTART:20250309T020000
TZOFFSETFROM:-0700
TZOFFSETTO:-0600
RDATE:20260308T020000
RDATE:20270314T020000
END:DAYLIGHT
END:VTIMEZONE
BEGIN:VEVENT
UID:4172febd-012e-4553-89a3-702642f0d823
DTSTAMP:20260424T143213Z
DESCRIPTION:Mingle with artists and view the art in The Art of Birding and 
 Through the Lens by Joseph Henry Sharp. Both exhibitions are on view throu
 gh February 28\, 2026\nThe opening reception is free and open to the publi
 c.
DTSTART;TZID=America/Denver:20260117T140000
DTEND;TZID=America/Denver:20260117T160000
LOCATION:
SUMMARY:OPENING RECEPTION: Art of Birding and Joseph Henry Sharp Exhibition
END:VEVENT
END:VCALENDAR
