BEGIN:VCALENDAR
VERSION:2.0
PRODID:-//carboncountydepotgallery.org//NONSGML kigkonsult.se iCalcreator 2
 .30.10//
CALSCALE:GREGORIAN
METHOD:PUBLISH
UID:2e4a4e18-9473-4297-8daa-c5d038cabd7e
X-WR-CALDESC:Make a beautiful suncatcher in this beginner workshop with Tul
 sa Dean of Humbug Stained Glass.\nWith over 25 years of experience\, Tulsa
  will guide you through the fundamentals of this enlightening art form. \n
 \nJanuary 23\, 10 am - 3 pm\nRegistration: $120 for CCAG Members\, $130 fo
 r non-members -- minimum 6 students/maximum 8 students\nAll supplies inclu
 ded.\nClass will have a one-hour lunch break.
X-WR-RELCALID:165476021435616a038475c18c517383
X-WR-TIMEZONE:America/Denver
BEGIN:VTIMEZONE
TZID:America/Denver
BEGIN:STANDARD
TZNAME:MST
DTSTART:20251102T020000
TZOFFSETFROM:-0600
TZOFFSETTO:-0700
RDATE:20261101T020000
END:STANDARD
BEGIN:DAYLIGHT
TZNAME:MDT
DTSTART:20250309T020000
TZOFFSETFROM:-0700
TZOFFSETTO:-0600
RDATE:20260308T020000
RDATE:20270314T020000
END:DAYLIGHT
END:VTIMEZONE
BEGIN:VEVENT
UID:e3848fc7-bce7-4c44-8290-90f7a2a88ed8
DTSTAMP:20260424T142536Z
DESCRIPTION:Make a beautiful suncatcher in this beginner workshop with Tuls
 a Dean of Humbug Stained Glass.\nWith over 25 years of experience\, Tulsa 
 will guide you through the fundamentals of this enlightening art form. \n
 \nJanuary 23\, 10 am - 3 pm\nRegistration: $120 for CCAG Members\, $130 fo
 r non-members -- minimum 6 students/maximum 8 students\nAll supplies inclu
 ded.\nClass will have a one-hour lunch break.
DTSTART;TZID=America/Denver:20260123T100000
DTEND;TZID=America/Denver:20260123T150000
LOCATION:
SUMMARY:2 SPOTS LEFT - Stained Glass for Beginners
END:VEVENT
END:VCALENDAR
