BEGIN:VCALENDAR
VERSION:2.0
PRODID:-//carboncountydepotgallery.org//NONSGML kigkonsult.se iCalcreator 2
 .30.10//
CALSCALE:GREGORIAN
METHOD:PUBLISH
UID:0fd35659-c99f-4ddc-a89e-533e90edbf62
X-WR-CALDESC:Make unique cards for a special occasion or just for fun!\nGet
  creative using watercolor paints and embroidery floss\nin this beginner f
 riendly class open to ages 15+.\n\nNo experience needed!\n\nRegistration: 
 $25 for CCAG Members\, $30 for non-members\nAll supplies included.
X-WR-RELCALID:a30b491e7aa37af9ee815ebf5b7c6c86
X-WR-TIMEZONE:America/Denver
BEGIN:VTIMEZONE
TZID:America/Denver
BEGIN:STANDARD
TZNAME:MST
DTSTART:20251102T020000
TZOFFSETFROM:-0600
TZOFFSETTO:-0700
RDATE:20261101T020000
END:STANDARD
BEGIN:DAYLIGHT
TZNAME:MDT
DTSTART:20250309T020000
TZOFFSETFROM:-0700
TZOFFSETTO:-0600
RDATE:20260308T020000
RDATE:20270314T020000
END:DAYLIGHT
END:VTIMEZONE
BEGIN:VEVENT
UID:b3a313ab-b501-4c83-9757-27a667bb68b1
DTSTAMP:20260424T143425Z
DESCRIPTION:Make unique cards for a special occasion or just for fun!\nGet 
 creative using watercolor paints and embroidery floss\nin this beginner fr
 iendly class open to ages 15+.\n\nNo experience needed!\n\nRegistration: $
 25 for CCAG Members\, $30 for non-members\nAll supplies included.
DTSTART;TZID=America/Denver:20260125T130000
DTEND;TZID=America/Denver:20260125T150000
LOCATION:
SUMMARY:Watercolor & Embroidery Greeting Cards
END:VEVENT
END:VCALENDAR
