BEGIN:VCALENDAR
VERSION:2.0
PRODID:-//carboncountydepotgallery.org//NONSGML kigkonsult.se iCalcreator 2
 .30.10//
CALSCALE:GREGORIAN
METHOD:PUBLISH
UID:ae619a25-57c7-4848-8d97-2c19863c46d5
X-WR-CALDESC:Learn about the common\, migratory and specialty birds of sout
 h central Montana with award-winning artist and naturalist Dominique Paulu
 s.\n\nTopics include: observation tips\, habitat\, helpful apps\, feeders\
 , visual & audio ID\, bird counts\, and much more.  \n\nFebruary 1\, 1:30-
 2:30 pm\nFREE and open to the public\n\nAlso enjoy our Member Exhibition\,
  “The Art of Birding”  while enjoying light refreshments with fellow bird 
 enthusiasts.
X-WR-RELCALID:df6a045080d54aa8ac9997b9bf948f20
X-WR-TIMEZONE:America/Denver
BEGIN:VTIMEZONE
TZID:America/Denver
BEGIN:STANDARD
TZNAME:MST
DTSTART:20251102T020000
TZOFFSETFROM:-0600
TZOFFSETTO:-0700
RDATE:20261101T020000
END:STANDARD
BEGIN:DAYLIGHT
TZNAME:MDT
DTSTART:20250309T020000
TZOFFSETFROM:-0700
TZOFFSETTO:-0600
RDATE:20260308T020000
RDATE:20270314T020000
END:DAYLIGHT
END:VTIMEZONE
BEGIN:VEVENT
UID:53bf8dc6-2f05-4bc7-903f-5fb11ae7d9d4
DTSTAMP:20260424T123658Z
DESCRIPTION:Learn about the common\, migratory and specialty birds of south
  central Montana with award-winning artist and naturalist Dominique Paulus
 .\n\nTopics include: observation tips\, habitat\, helpful apps\, feeders\,
  visual & audio ID\, bird counts\, and much more.  \n\nFebruary 1\, 1:30-2
 :30 pm\nFREE and open to the public\n\nAlso enjoy our Member Exhibition\, 
 “The Art of Birding”  while enjoying light refreshments with fellow bird e
 nthusiasts.
DTSTART;TZID=America/Denver:20260201T133000
DTEND;TZID=America/Denver:20260201T143000
LOCATION:
SUMMARY:FREE Presentation: Montana Birding with Dominique Paulus
END:VEVENT
END:VCALENDAR
