BEGIN:VCALENDAR
VERSION:2.0
PRODID:-//carboncountydepotgallery.org//NONSGML kigkonsult.se iCalcreator 2
 .30.10//
CALSCALE:GREGORIAN
METHOD:PUBLISH
UID:5c053066-ab68-48b6-b571-d2b6234e5a17
X-WR-CALDESC:Bring your own supplies and sketch\, draw or paint from a clot
 hed model.\nAll skill levels welcome.\n\nNo Registration needed\nFREE for 
 CCAG members and students 18 and under. $5 for non-members\n
X-WR-RELCALID:ff2543b33d11c5ce85b04dcb266f835d
X-WR-TIMEZONE:America/Denver
BEGIN:VTIMEZONE
TZID:America/Denver
BEGIN:STANDARD
TZNAME:MST
DTSTART:20251102T020000
TZOFFSETFROM:-0600
TZOFFSETTO:-0700
RDATE:20261101T020000
END:STANDARD
BEGIN:DAYLIGHT
TZNAME:MDT
DTSTART:20250309T020000
TZOFFSETFROM:-0700
TZOFFSETTO:-0600
RDATE:20260308T020000
RDATE:20270314T020000
END:DAYLIGHT
END:VTIMEZONE
BEGIN:VEVENT
UID:f42e7184-0e9f-4534-b6cf-b0b8a51ace75
DTSTAMP:20260424T123820Z
DESCRIPTION:Bring your own supplies and sketch\, draw or paint from a cloth
 ed model.\nAll skill levels welcome.\n\nNo Registration needed\nFREE for C
 CAG members and students 18 and under. $5 for non-members\n
DTSTART;TZID=America/Denver:20260215T140000
DTEND;TZID=America/Denver:20260215T160000
LOCATION:
SUMMARY:Open Studio - Figure Drawing
END:VEVENT
END:VCALENDAR
