BEGIN:VCALENDAR
VERSION:2.0
PRODID:-//carboncountydepotgallery.org//NONSGML kigkonsult.se iCalcreator 2
 .30.10//
CALSCALE:GREGORIAN
METHOD:PUBLISH
UID:f0c168ff-34cf-422e-9d57-bc8060f97b64
X-WR-CALDESC:How does wilderness affect your creative spirit?\nJoin us Satu
 rday\, February 21 from 2-4 pm to hear stories from four artists who spent
  time in nature as part of the 2025 Beartooth Artist-in-Residence program.
  \n\nAlso learn more about this residency program which will open for appl
 icants in April.\n\nFree and open to the public. Light refreshments served
 .
X-WR-RELCALID:f37dd7b69b479d4b91984ac18a219fbe
X-WR-TIMEZONE:America/Denver
BEGIN:VTIMEZONE
TZID:America/Denver
BEGIN:STANDARD
TZNAME:MST
DTSTART:20251102T020000
TZOFFSETFROM:-0600
TZOFFSETTO:-0700
RDATE:20261101T020000
END:STANDARD
BEGIN:DAYLIGHT
TZNAME:MDT
DTSTART:20250309T020000
TZOFFSETFROM:-0700
TZOFFSETTO:-0600
RDATE:20260308T020000
RDATE:20270314T020000
END:DAYLIGHT
END:VTIMEZONE
BEGIN:VEVENT
UID:ef3084c8-2a53-47db-8bcb-edb4dedd2590
DTSTAMP:20260424T123440Z
DESCRIPTION:How does wilderness affect your creative spirit?\nJoin us Satur
 day\, February 21 from 2-4 pm to hear stories from four artists who spent 
 time in nature as part of the 2025 Beartooth Artist-in-Residence program. 
 \n\nAlso learn more about this residency program which will open for appli
 cants in April.\n\nFree and open to the public. Light refreshments served.
DTSTART;TZID=America/Denver:20260221T140000
DTEND;TZID=America/Denver:20260221T160000
LOCATION:
SUMMARY:FREE Program: Beartooth Artist in Residency Presentation
END:VEVENT
END:VCALENDAR
