BEGIN:VCALENDAR
VERSION:2.0
PRODID:-//carboncountydepotgallery.org//NONSGML kigkonsult.se iCalcreator 2
 .30.10//
CALSCALE:GREGORIAN
METHOD:PUBLISH
UID:d64b40f6-db3a-4934-b10b-27d24c5316f4
X-WR-CALDESC:Sarah Adcock\, Associate Curator from the C.M. Russell Museum 
 will present a talk in conjunction with the historical photographic collec
 tion\, Through the Lens of Joseph Henry Sharp\, featuring images of Sharps
 ’ time spent in Montana beginning in 1899 at the Crow Agency and his time 
 visiting the Blackfeet people in Browning and Glacier. Learn about the art
 ist\, exhibition\, and the photogravure process during this informative pr
 esentation. A light lunch will be served.\n\nFREE for Guild Members\, $5 f
 or non-members\nLimit of 25 people -- RSVP required\, call 406-446-1370 or
  email the link below\n
X-WR-RELCALID:439789e5f0e2452d68f29a5666e98aea
X-WR-TIMEZONE:America/Denver
BEGIN:VTIMEZONE
TZID:America/Denver
BEGIN:STANDARD
TZNAME:MST
DTSTART:20251102T020000
TZOFFSETFROM:-0600
TZOFFSETTO:-0700
RDATE:20261101T020000
END:STANDARD
BEGIN:DAYLIGHT
TZNAME:MDT
DTSTART:20250309T020000
TZOFFSETFROM:-0700
TZOFFSETTO:-0600
RDATE:20260308T020000
RDATE:20270314T020000
END:DAYLIGHT
END:VTIMEZONE
BEGIN:VEVENT
UID:74f57c8f-a099-40b9-a2bd-36aee5ac9bbb
DTSTAMP:20260424T124409Z
DESCRIPTION:Sarah Adcock\, Associate Curator from the C.M. Russell Museum w
 ill present a talk in conjunction with the historical photographic collect
 ion\, Through the Lens of Joseph Henry Sharp\, featuring images of Sharps’
  time spent in Montana beginning in 1899 at the Crow Agency and his time v
 isiting the Blackfeet people in Browning and Glacier. Learn about the arti
 st\, exhibition\, and the photogravure process during this informative pre
 sentation. A light lunch will be served.\n\nFREE for Guild Members\, $5 fo
 r non-members\nLimit of 25 people -- RSVP required\, call 406-446-1370 or 
 email the link below\n
DTSTART;TZID=America/Denver:20260225T120000
DTEND;TZID=America/Denver:20260225T130000
LOCATION:
SUMMARY:Joseph Henry Sharp Historic Photographic Prints Lunch-n-Learn
END:VEVENT
END:VCALENDAR
