BEGIN:VCALENDAR
VERSION:2.0
PRODID:-//carboncountydepotgallery.org//NONSGML kigkonsult.se iCalcreator 2
 .30.10//
CALSCALE:GREGORIAN
METHOD:PUBLISH
UID:bedb1784-2558-4a90-a65a-9fb2e199ea6d
X-WR-CALDESC:Kindergarten through eighth grade students from Carbon County\
 , Fishtail\, and Nye are featured in this annual art show. Works range fro
 m drawing to painting to collage as well as sculpture. It is a wonderfully
  inspiring show that will be on view March 7-29\, 2026. \n\nSpecial guests
 \, Kathy Kreatz\, Lynne Turner Fitzgerald\, and BR Walker judged the work.
  Join us 2-4 p.m.\, Saturday\, March 28\, (changed from March 14) for the 
 reception as well as recognition of the winners at 3 p.m.  Light refreshme
 nts will be served. \n\nThe event is free and open to the public.\n\nWe es
 pecially thank Granite Peak Plumbing & Heating for sponsoring the prizes f
 or this exhibition.
X-WR-RELCALID:e8d227e2c8ddc4246adc67d6c4fa31fb
X-WR-TIMEZONE:America/Denver
BEGIN:VTIMEZONE
TZID:America/Denver
BEGIN:STANDARD
TZNAME:MST
DTSTART:20251102T020000
TZOFFSETFROM:-0600
TZOFFSETTO:-0700
RDATE:20261101T020000
END:STANDARD
BEGIN:DAYLIGHT
TZNAME:MDT
DTSTART:20250309T020000
TZOFFSETFROM:-0700
TZOFFSETTO:-0600
RDATE:20260308T020000
RDATE:20270314T020000
END:DAYLIGHT
END:VTIMEZONE
BEGIN:VEVENT
UID:aa347f6e-1c2a-4aa4-8d20-fbc8282739c7
DTSTAMP:20260424T124335Z
DESCRIPTION:Kindergarten through eighth grade students from Carbon County\,
  Fishtail\, and Nye are featured in this annual art show. Works range from
  drawing to painting to collage as well as sculpture. It is a wonderfully 
 inspiring show that will be on view March 7-29\, 2026. \n\nSpecial guests\
 , Kathy Kreatz\, Lynne Turner Fitzgerald\, and BR Walker judged the work. 
 Join us 2-4 p.m.\, Saturday\, March 28\, (changed from March 14) for the r
 eception as well as recognition of the winners at 3 p.m.  Light refreshmen
 ts will be served. \n\nThe event is free and open to the public.\n\nWe esp
 ecially thank Granite Peak Plumbing & Heating for sponsoring the prizes fo
 r this exhibition.
DTSTART;TZID=America/Denver:20260307T040000
DTEND;TZID=America/Denver:20260329T040001
LOCATION:
SUMMARY:Annual K-8 Student Art Show
END:VEVENT
END:VCALENDAR
