BEGIN:VCALENDAR
VERSION:2.0
PRODID:-//carboncountydepotgallery.org//NONSGML kigkonsult.se iCalcreator 2
 .30.10//
CALSCALE:GREGORIAN
METHOD:PUBLISH
UID:f21ad4c3-f0ff-4f10-b574-02cbaaec7762
X-WR-CALDESC:Light refreshments served. Awards announced at 3 p.m. Free and
  open to the public.
X-WR-RELCALID:61aa2aa8e8bde99ecd1ed5e4b2e0a1f5
X-WR-TIMEZONE:America/Denver
BEGIN:VTIMEZONE
TZID:America/Denver
BEGIN:STANDARD
TZNAME:MST
DTSTART:20251102T020000
TZOFFSETFROM:-0600
TZOFFSETTO:-0700
RDATE:20261101T020000
END:STANDARD
BEGIN:DAYLIGHT
TZNAME:MDT
DTSTART:20260308T020000
TZOFFSETFROM:-0700
TZOFFSETTO:-0600
RDATE:20270314T020000
END:DAYLIGHT
END:VTIMEZONE
BEGIN:VEVENT
UID:78be2172-5391-4f0c-a282-a40f0471b971
DTSTAMP:20260424T104621Z
DESCRIPTION:Light refreshments served. Awards announced at 3 p.m. Free and 
 open to the public.
DTSTART;TZID=America/Denver:20260314T140000
DTEND;TZID=America/Denver:20260314T160000
LOCATION:
SUMMARY:POSTONED TO March 28/ K-8 Student Art Show Reception & Awards
END:VEVENT
END:VCALENDAR
