BEGIN:VCALENDAR
VERSION:2.0
PRODID:-//carboncountydepotgallery.org//NONSGML kigkonsult.se iCalcreator 2
 .30.10//
CALSCALE:GREGORIAN
METHOD:PUBLISH
UID:87a44123-5561-4aa8-87f5-badcab77cef7
X-WR-CALDESC:Bring your own supplies and sketch\, draw or paint from a clot
 hed model.\nAll skill levels welcome.\n\nNo Registration needed\nFREE for 
 CCAG members and students 18 and under. $5 for non-members\n
X-WR-RELCALID:ebdf33c397447a18d5e4d77b665cfaa1
X-WR-TIMEZONE:America/Denver
BEGIN:VTIMEZONE
TZID:America/Denver
BEGIN:STANDARD
TZNAME:MST
DTSTART:20251102T020000
TZOFFSETFROM:-0600
TZOFFSETTO:-0700
RDATE:20261101T020000
END:STANDARD
BEGIN:DAYLIGHT
TZNAME:MDT
DTSTART:20260308T020000
TZOFFSETFROM:-0700
TZOFFSETTO:-0600
RDATE:20270314T020000
END:DAYLIGHT
END:VTIMEZONE
BEGIN:VEVENT
UID:5945bd22-7c05-43e7-94b4-287b2eaa2022
DTSTAMP:20260424T104212Z
DESCRIPTION:Bring your own supplies and sketch\, draw or paint from a cloth
 ed model.\nAll skill levels welcome.\n\nNo Registration needed\nFREE for C
 CAG members and students 18 and under. $5 for non-members\n
DTSTART;TZID=America/Denver:20260315T140000
DTEND;TZID=America/Denver:20260315T160000
LOCATION:
SUMMARY:CANCELLED Open Studio - Figure Drawing
END:VEVENT
END:VCALENDAR
