BEGIN:VCALENDAR
VERSION:2.0
PRODID:-//carboncountydepotgallery.org//NONSGML kigkonsult.se iCalcreator 2
 .30.10//
CALSCALE:GREGORIAN
METHOD:PUBLISH
UID:f5f0e713-35e3-44cb-91ee-962ae96b244c
X-WR-CALDESC:Students will receive ribbons and awards at this closing recep
 tion for the K-8 Student Art Show. Recognition of winners will start at 3 
 p.m. Light refreshments served. FREE and open to the public.\n\nAwards cou
 rtesy of Granite Peak Plumbing & Heating.
X-WR-RELCALID:5566fc0b637292500d25834808fa8bb8
X-WR-TIMEZONE:America/Denver
BEGIN:VTIMEZONE
TZID:America/Denver
BEGIN:STANDARD
TZNAME:MST
DTSTART:20251102T020000
TZOFFSETFROM:-0600
TZOFFSETTO:-0700
RDATE:20261101T020000
END:STANDARD
BEGIN:DAYLIGHT
TZNAME:MDT
DTSTART:20260308T020000
TZOFFSETFROM:-0700
TZOFFSETTO:-0600
RDATE:20270314T020000
END:DAYLIGHT
END:VTIMEZONE
BEGIN:VEVENT
UID:8e51bc1c-4764-4c06-a45e-16e7a54e185f
DTSTAMP:20260424T104434Z
DESCRIPTION:Students will receive ribbons and awards at this closing recept
 ion for the K-8 Student Art Show. Recognition of winners will start at 3 p
 .m. Light refreshments served. FREE and open to the public.\n\nAwards cour
 tesy of Granite Peak Plumbing & Heating.
DTSTART;TZID=America/Denver:20260328T140000
DTEND;TZID=America/Denver:20260328T160000
LOCATION:
SUMMARY:K-8 Student Art Show Reception & Awards
END:VEVENT
END:VCALENDAR
