BEGIN:VCALENDAR
VERSION:2.0
PRODID:-//carboncountydepotgallery.org//NONSGML kigkonsult.se iCalcreator 2
 .30.10//
CALSCALE:GREGORIAN
METHOD:PUBLISH
UID:224a5c73-c0e6-4ab5-9c64-cd069d82dab4
X-WR-CALDESC:Bring your own supplies and sketch\, draw or paint from a clot
 hed model.\nAll skill levels welcome.\n\nNo Registration needed\nFREE for 
 CCAG members and students 18 and under. $5 for non-members\n
X-WR-RELCALID:76a6851ee0a8feb322a9c99333bec243
X-WR-TIMEZONE:America/Denver
BEGIN:VTIMEZONE
TZID:America/Denver
BEGIN:STANDARD
TZNAME:MST
DTSTART:20251102T020000
TZOFFSETFROM:-0600
TZOFFSETTO:-0700
RDATE:20261101T020000
END:STANDARD
BEGIN:DAYLIGHT
TZNAME:MDT
DTSTART:20260308T020000
TZOFFSETFROM:-0700
TZOFFSETTO:-0600
RDATE:20270314T020000
END:DAYLIGHT
END:VTIMEZONE
BEGIN:VEVENT
UID:9d3a2af4-3a22-4b91-b8d5-744a5b7cdecc
DTSTAMP:20260424T085817Z
DESCRIPTION:Bring your own supplies and sketch\, draw or paint from a cloth
 ed model.\nAll skill levels welcome.\n\nNo Registration needed\nFREE for C
 CAG members and students 18 and under. $5 for non-members\n
DTSTART;TZID=America/Denver:20260419T140000
DTEND;TZID=America/Denver:20260419T160000
LOCATION:
SUMMARY:Open Studio - Figure Drawing
END:VEVENT
END:VCALENDAR
