BEGIN:VCALENDAR
VERSION:2.0
PRODID:-//carboncountydepotgallery.org//NONSGML kigkonsult.se iCalcreator 2
 .30.10//
CALSCALE:GREGORIAN
METHOD:PUBLISH
UID:73ea122d-942c-4348-b686-778ebd474b34
X-WR-CALDESC:View the art on display by local high school students in this 
 annual exhibition. A community favorite\, works in the exhibition are judg
 ed and awards given. \n\nThe reception is 2-4 p.m. Sunday\, May 3\, 2026 w
 ith awards announced at 3 p.m. \n\nExhibition sponsor is Cindy Dunham with
  Berkshire Hathaway Floberg Real Estate. \n\nThe exhibition and reception 
 is free and open to the public. \n
X-WR-RELCALID:4ff43f7fcf682c83b70aa7b74443a393
X-WR-TIMEZONE:America/Denver
BEGIN:VTIMEZONE
TZID:America/Denver
BEGIN:STANDARD
TZNAME:MST
DTSTART:20251102T020000
TZOFFSETFROM:-0600
TZOFFSETTO:-0700
RDATE:20261101T020000
END:STANDARD
BEGIN:DAYLIGHT
TZNAME:MDT
DTSTART:20260308T020000
TZOFFSETFROM:-0700
TZOFFSETTO:-0600
RDATE:20270314T020000
END:DAYLIGHT
END:VTIMEZONE
BEGIN:VEVENT
UID:d0959e01-5e35-4a67-8dc3-1665183d8ed8
DTSTAMP:20260424T123835Z
DESCRIPTION:View the art on display by local high school students in this a
 nnual exhibition. A community favorite\, works in the exhibition are judge
 d and awards given. \n\nThe reception is 2-4 p.m. Sunday\, May 3\, 2026 wi
 th awards announced at 3 p.m. \n\nExhibition sponsor is Cindy Dunham with 
 Berkshire Hathaway Floberg Real Estate. \n\nThe exhibition and reception i
 s free and open to the public. \n
DTSTART;TZID=America/Denver:20260502T040000
DTEND;TZID=America/Denver:20260525T040001
LOCATION:
SUMMARY:High School Student Art Show
END:VEVENT
END:VCALENDAR
