BEGIN:VCALENDAR
VERSION:2.0
PRODID:-//carboncountydepotgallery.org//NONSGML kigkonsult.se iCalcreator 2
 .30.10//
CALSCALE:GREGORIAN
METHOD:PUBLISH
UID:82f7c362-cb41-45df-9684-e121b92e52ea
X-WR-CALDESC:View the artwork created by Michael Kosorok\, Chris Kosorok\, 
 and Tonya Henry. More information will be coming soon.
X-WR-RELCALID:fe8771324e5a9f05f15091baeca199e4
X-WR-TIMEZONE:America/Denver
BEGIN:VTIMEZONE
TZID:America/Denver
BEGIN:STANDARD
TZNAME:MST
DTSTART:20251102T020000
TZOFFSETFROM:-0600
TZOFFSETTO:-0700
RDATE:20261101T020000
RDATE:20271107T020000
END:STANDARD
BEGIN:DAYLIGHT
TZNAME:MDT
DTSTART:20260308T020000
TZOFFSETFROM:-0700
TZOFFSETTO:-0600
RDATE:20270314T020000
END:DAYLIGHT
END:VTIMEZONE
BEGIN:VEVENT
UID:49d9301b-d6bb-4af6-b033-a236a4373831
DTSTAMP:20260424T122535Z
DESCRIPTION:View the artwork created by Michael Kosorok\, Chris Kosorok\, a
 nd Tonya Henry. More information will be coming soon.
DTSTART;TZID=America/Denver:20260604T040000
DTEND;TZID=America/Denver:20260628T040001
LOCATION:
SUMMARY:'FAMILY TIES' Kosorok Family Exhibition
END:VEVENT
END:VCALENDAR
