BEGIN:VCALENDAR
VERSION:2.0
PRODID:-//carboncountydepotgallery.org//NONSGML kigkonsult.se iCalcreator 2
 .30.10//
CALSCALE:GREGORIAN
METHOD:PUBLISH
UID:97061b7e-4d6f-4b61-bb1c-9847c003f85a
X-WR-CALDESC:More information will be coming soon.
X-WR-RELCALID:d3e7effa949da760d00c654ee3942c84
X-WR-TIMEZONE:America/Denver
BEGIN:VTIMEZONE
TZID:America/Denver
BEGIN:STANDARD
TZNAME:MST
DTSTART:20251102T020000
TZOFFSETFROM:-0600
TZOFFSETTO:-0700
RDATE:20261101T020000
RDATE:20271107T020000
END:STANDARD
BEGIN:DAYLIGHT
TZNAME:MDT
DTSTART:20260308T020000
TZOFFSETFROM:-0700
TZOFFSETTO:-0600
RDATE:20270314T020000
END:DAYLIGHT
END:VTIMEZONE
BEGIN:VEVENT
UID:95d0a01d-f842-44e5-97f9-d3d2e63f53e4
DTSTAMP:20260424T161519Z
DESCRIPTION:More information will be coming soon.
DTSTART;TZID=America/Denver:20260703T040000
DTEND;TZID=America/Denver:20260727T040001
LOCATION:
SUMMARY:2026 Art in the Beartooths Exhibition of Silent Auction Art
END:VEVENT
END:VCALENDAR
