BEGIN:VCALENDAR
VERSION:2.0
PRODID:-//carboncountydepotgallery.org//NONSGML kigkonsult.se iCalcreator 2
 .30.10//
CALSCALE:GREGORIAN
METHOD:PUBLISH
UID:6cd37a6b-2f0a-4518-821b-534455b4f79e
X-WR-CALDESC:Painting the Landscape in Pastel!\nDust off your pastels and j
 oin Bonnie in a workshop to create dynamic landscape paintings especially 
 in the winter and fall seasons with roads and water.  If you are looking f
 or a workshop that will help you take your pastel painting to the next lev
 el or you are just getting started with this medium\, this class is for yo
 u. \n\n$115 for CCAG members\, $135 non-members\nClass size is limited to 
 10 to insure personal easel time and assistance. \nPLEASE DOWNLOAD SUPPLY 
 LIST linked below prior to attending class.\n\nAbout the Instructor: Bonni
 e Zahn Griffith is a member of the Pastel Society of the West Coast\, the 
 Northwest Pastel Society\, the Landscape Artists International\, Plein Air
  Painters of Idaho and the American Impressionist Society.\n\n“From the gr
 ound up\, look at the landscape and really see it\; embrace the colors\, t
 he terrain\, the magnitude of our physical earth. Let me help you experien
 ce it...” \n\nSee her work at www.bonniegriffith.com
X-WR-RELCALID:269dd2e12ab24cec79fec359729f9871
X-WR-TIMEZONE:America/Denver
BEGIN:VTIMEZONE
TZID:America/Denver
BEGIN:STANDARD
TZNAME:MST
DTSTART:20251102T020000
TZOFFSETFROM:-0600
TZOFFSETTO:-0700
RDATE:20261101T020000
RDATE:20271107T020000
END:STANDARD
BEGIN:DAYLIGHT
TZNAME:MDT
DTSTART:20260308T020000
TZOFFSETFROM:-0700
TZOFFSETTO:-0600
RDATE:20270314T020000
END:DAYLIGHT
END:VTIMEZONE
BEGIN:VEVENT
UID:02c6df24-95a0-4951-8a99-23dc41c13577
DTSTAMP:20260424T142317Z
DESCRIPTION:Painting the Landscape in Pastel!\nDust off your pastels and jo
 in Bonnie in a workshop to create dynamic landscape paintings especially i
 n the winter and fall seasons with roads and water.  If you are looking fo
 r a workshop that will help you take your pastel painting to the next leve
 l or you are just getting started with this medium\, this class is for you
 . \n\n$115 for CCAG members\, $135 non-members\nClass size is limited to 1
 0 to insure personal easel time and assistance. \nPLEASE DOWNLOAD SUPPLY L
 IST linked below prior to attending class.\n\nAbout the Instructor: Bonnie
  Zahn Griffith is a member of the Pastel Society of the West Coast\, the N
 orthwest Pastel Society\, the Landscape Artists International\, Plein Air 
 Painters of Idaho and the American Impressionist Society.\n\n“From the gro
 und up\, look at the landscape and really see it\; embrace the colors\, th
 e terrain\, the magnitude of our physical earth. Let me help you experienc
 e it...” \n\nSee her work at www.bonniegriffith.com
DTSTART;TZID=America/Denver:20260730T090000
DTEND;TZID=America/Denver:20260731T130000
LOCATION:
SUMMARY:Creating Dynamic Pastel Paintings w/Bonnie Zahn Griffith
END:VEVENT
END:VCALENDAR
