BEGIN:VCALENDAR
VERSION:2.0
PRODID:-//carboncountydepotgallery.org//NONSGML kigkonsult.se iCalcreator 2
 .30.10//
CALSCALE:GREGORIAN
METHOD:PUBLISH
UID:2728849e-422a-4163-a3cb-3fe1d057ef4b
X-WR-CALDESC:More information coming soon.
X-WR-RELCALID:2508496e8011efc09eda0f407bbd0bc2
X-WR-TIMEZONE:America/Denver
BEGIN:VTIMEZONE
TZID:America/Denver
BEGIN:STANDARD
TZNAME:MST
DTSTART:20251102T020000
TZOFFSETFROM:-0600
TZOFFSETTO:-0700
RDATE:20261101T020000
RDATE:20271107T020000
END:STANDARD
BEGIN:DAYLIGHT
TZNAME:MDT
DTSTART:20260308T020000
TZOFFSETFROM:-0700
TZOFFSETTO:-0600
RDATE:20270314T020000
END:DAYLIGHT
END:VTIMEZONE
BEGIN:VEVENT
UID:d8c82bcd-ce73-42d7-b7b3-b5f2979a5ed0
DTSTAMP:20260424T160613Z
DESCRIPTION:More information coming soon.
DTSTART;TZID=America/Denver:20260801T040000
DTEND;TZID=America/Denver:20260830T040001
LOCATION:
SUMMARY:Meanwhile\, Out West...Art by Bonnie Zahn Griffith
END:VEVENT
END:VCALENDAR
