BEGIN:VCALENDAR
VERSION:2.0
PRODID:-//carboncountydepotgallery.org//NONSGML kigkonsult.se iCalcreator 2
 .30.10//
CALSCALE:GREGORIAN
METHOD:PUBLISH
UID:45425b3c-ad51-4623-b1e0-d6ada6b1947c
X-WR-CALDESC:This is the 47th annual Labor Day Arts Fair coordinated by the
  Carbon County Arts Guild that is held in Lions Park. Voted as Distinctly 
 MT Best of Montana Art Show in 2024 and 2025. Shop the art and fine crafts
  of 80 talented and regional artists at this festive outdoor event. \n\nLi
 ve entertainment and concessions add to the fun. Great for families! FREE 
 and open to the public. \n
X-WR-RELCALID:e2de011c9adc06668cf99d573c2fdc37
X-WR-TIMEZONE:America/Denver
BEGIN:VTIMEZONE
TZID:America/Denver
BEGIN:STANDARD
TZNAME:MST
DTSTART:20251102T020000
TZOFFSETFROM:-0600
TZOFFSETTO:-0700
RDATE:20261101T020000
RDATE:20271107T020000
END:STANDARD
BEGIN:DAYLIGHT
TZNAME:MDT
DTSTART:20260308T020000
TZOFFSETFROM:-0700
TZOFFSETTO:-0600
RDATE:20270314T020000
END:DAYLIGHT
END:VTIMEZONE
BEGIN:VEVENT
UID:27117d75-fa2a-4f67-95f1-c26ec04176ce
DTSTAMP:20260424T174957Z
DESCRIPTION:This is the 47th annual Labor Day Arts Fair coordinated by the 
 Carbon County Arts Guild that is held in Lions Park. Voted as Distinctly M
 T Best of Montana Art Show in 2024 and 2025. Shop the art and fine crafts 
 of 80 talented and regional artists at this festive outdoor event. \n\nLiv
 e entertainment and concessions add to the fun. Great for families! FREE a
 nd open to the public. \n
DTSTART;TZID=America/Denver:20260907T090000
DTEND;TZID=America/Denver:20260907T160000
LOCATION:
SUMMARY:47th Annual Labor Day Arts Fair
END:VEVENT
END:VCALENDAR
