BEGIN:VCALENDAR
VERSION:2.0
PRODID:-//carboncountydepotgallery.org//NONSGML kigkonsult.se iCalcreator 2
 .30.10//
CALSCALE:GREGORIAN
METHOD:PUBLISH
UID:6d5f6daa-236a-4739-a0ac-1ee6b8be7c82
X-WR-CALDESC:The work in this exhibition reflect the artists interpretation
  of their subject matter when they go outside to observe and interpret the
  landscape. As they paint\, they direct their full attention to what they 
 see\, hear\, taste\, smell\, and feel to capture the essence of what intri
 gues their senses. Is it color?  Is it the shape or movement of light?  Or
  is it something else? Often on a great day of painting\, they get fully a
 bsorbed in their work to the point that their hearts\, minds\, and senses 
 work seamlessly to render a unique expression of the experience. This focu
 s produces beautiful pieces that they hope will ignite an emotional respon
 se in the viewer.
X-WR-RELCALID:3e71faff52faef79d420c2ffd4f8a5a6
X-WR-TIMEZONE:America/Denver
BEGIN:VTIMEZONE
TZID:America/Denver
BEGIN:STANDARD
TZNAME:MST
DTSTART:20191103T020000
TZOFFSETFROM:-0600
TZOFFSETTO:-0700
RDATE:20201101T020000
RDATE:20211107T020000
END:STANDARD
BEGIN:DAYLIGHT
TZNAME:MDT
DTSTART:20200308T020000
TZOFFSETFROM:-0700
TZOFFSETTO:-0600
RDATE:20210314T020000
END:DAYLIGHT
END:VTIMEZONE
BEGIN:VEVENT
UID:ee7b6f97-09bd-4c23-9844-687e7d227654
DTSTAMP:20260424T202554Z
DESCRIPTION:The work in this exhibition reflect the artists interpretation 
 of their subject matter when they go outside to observe and interpret the 
 landscape. As they paint\, they direct their full attention to what they s
 ee\, hear\, taste\, smell\, and feel to capture the essence of what intrig
 ues their senses. Is it color?  Is it the shape or movement of light?  Or 
 is it something else? Often on a great day of painting\, they get fully ab
 sorbed in their work to the point that their hearts\, minds\, and senses w
 ork seamlessly to render a unique expression of the experience. This focus
  produces beautiful pieces that they hope will ignite an emotional respons
 e in the viewer.
DTSTART;TZID=America/Denver:20200815T000000
DTEND;TZID=America/Denver:20200830T235900
LOCATION:Main Gallery
SUMMARY:Mindful Observations\, Paintings by Dorci Newman-Tremblay and Steph
 anie Rose
END:VEVENT
END:VCALENDAR
