BEGIN:VCALENDAR
VERSION:2.0
PRODID:-//carboncountydepotgallery.org//NONSGML kigkonsult.se iCalcreator 2
 .30.10//
CALSCALE:GREGORIAN
METHOD:PUBLISH
UID:3ceb12b9-4cc4-4bd8-8ff3-9a0704f7fdc2
X-WR-CALDESC:'Continuum: Contemporary Native American Art'\, Main Gallery\n
 (image by Dwayne Wilcox (Oglala Lakota) 'Put On My Face'\, colored pencil 
 on ledger paper\, 2012\n\nThis traveling exhibition\, on view at the Carbo
 n County Arts Guild\, includes work by Neal Ambrose-Smith\, Corwin Clairmo
 nt\, Jason Elliot Clark\, Ric Gendron\, John Hitchcock\, George Longfish\,
  Neil Parsons\, Ernie Pepion\, Sara Siestreem\, Duane Slick\, Jaune Quick-
 to-See Smith\, Larry Thomas\, Marie Watt\, Dwayne Wilcox\, and Melanie Yaz
 zie. \n\n'Continuum' is a joint project organized by Missoula Art Museum (
 MAM) and Salish Kootenai College.  Curator Nikolyn Garner says about the e
 xhibition\, 'The artists featured in this show represent diverse tribes an
 d life experiences\, both on-and-off Reservations. They utilize many techn
 iques in the artwork and have individual voices and means of expression. Y
 et\, they also express the connections between cultures and the continuum'
 s that run through the contemporary experiences of all American Indians. T
 his exhibition\, 'Continuum'\, reflects the continually developing\, adapt
 ing\, and exploratory voices of contemporary American Indian artists.'\n\n
 This exhibition is sponsored by the Montana Art Gallery Directors Associat
 ion (MAGDA)\, a statewide service organization for non-profit museums and 
 galleries\, and supported in part by grants from the Montana Arts Council\
 , a state agency funded by the State of Montana\; Montana’s Cultural and A
 esthetic Projects Trust Fund\; and the National Endowment for the Arts.\n
X-WR-RELCALID:ac9dc5a08daeb18577e0791922e64d31
X-WR-TIMEZONE:America/Denver
BEGIN:VTIMEZONE
TZID:America/Denver
BEGIN:STANDARD
TZNAME:MST
DTSTART:20191103T020000
TZOFFSETFROM:-0600
TZOFFSETTO:-0700
RDATE:20201101T020000
RDATE:20211107T020000
END:STANDARD
BEGIN:DAYLIGHT
TZNAME:MDT
DTSTART:20200308T020000
TZOFFSETFROM:-0700
TZOFFSETTO:-0600
RDATE:20210314T020000
END:DAYLIGHT
END:VTIMEZONE
BEGIN:VEVENT
UID:06d81a8f-ca7b-4f56-a3d7-8d731a2322f6
DTSTAMP:20260424T202428Z
DESCRIPTION:'Continuum: Contemporary Native American Art'\, Main Gallery\n(
 image by Dwayne Wilcox (Oglala Lakota) 'Put On My Face'\, colored pencil o
 n ledger paper\, 2012\n\nThis traveling exhibition\, on view at the Carbon
  County Arts Guild\, includes work by Neal Ambrose-Smith\, Corwin Clairmon
 t\, Jason Elliot Clark\, Ric Gendron\, John Hitchcock\, George Longfish\, 
 Neil Parsons\, Ernie Pepion\, Sara Siestreem\, Duane Slick\, Jaune Quick-t
 o-See Smith\, Larry Thomas\, Marie Watt\, Dwayne Wilcox\, and Melanie Yazz
 ie. \n\n'Continuum' is a joint project organized by Missoula Art Museum (M
 AM) and Salish Kootenai College.  Curator Nikolyn Garner says about the ex
 hibition\, 'The artists featured in this show represent diverse tribes and
  life experiences\, both on-and-off Reservations. They utilize many techni
 ques in the artwork and have individual voices and means of expression. Ye
 t\, they also express the connections between cultures and the continuum's
  that run through the contemporary experiences of all American Indians. Th
 is exhibition\, 'Continuum'\, reflects the continually developing\, adapti
 ng\, and exploratory voices of contemporary American Indian artists.'\n\nT
 his exhibition is sponsored by the Montana Art Gallery Directors Associati
 on (MAGDA)\, a statewide service organization for non-profit museums and g
 alleries\, and supported in part by grants from the Montana Arts Council\,
  a state agency funded by the State of Montana\; Montana’s Cultural and Ae
 sthetic Projects Trust Fund\; and the National Endowment for the Arts.\n
DTSTART;TZID=America/Denver:20200904T000000
DTEND;TZID=America/Denver:20200928T235900
LOCATION:
SUMMARY:Continuum: Contemporary Native American Art
END:VEVENT
END:VCALENDAR
