BEGIN:VCALENDAR
VERSION:2.0
PRODID:-//carboncountydepotgallery.org//NONSGML kigkonsult.se iCalcreator 2
 .30.10//
CALSCALE:GREGORIAN
METHOD:PUBLISH
UID:cf7e0fc2-22c9-4a84-90b2-7992966bd145
X-WR-CALDESC:Formed in 1985 as a small group of 5 artists\, the group took 
 their name from the fact that all of the original members lived or had sum
 mer homes in the Rock Creek/East Rosebud/Stillwater River region. They fou
 nd the mountain landscapes and the ranch country in these areas a rich sou
 rce of subject matter for their paintings. Today\, the number of artists i
 n the Stillwater Society has changed but they still gather together regula
 rly to talk about art. The exhibition at the Carbon County Arts Guild prov
 ides a great venue for the participants to showcase their work. Artists in
  this year's exhibition include Mary Blain\, Mary Lee Darby\, Robin Earles
 \, Elliott Eaton\, Jackie Inman\, Jerry Inman\, Nellie Israel\, Steve Kuen
 nen\, Elizabeth LaRowe\, Diana Mysse\, Dorci Newman-Tremblay\, E. Denney N
 eVille\, Jacquie Pritting Kittson\, Carolyn Thayer\, and Robert Tompkins.
X-WR-RELCALID:161cb180ad8b86901e3356e002bf0ec7
X-WR-TIMEZONE:America/Denver
BEGIN:VTIMEZONE
TZID:America/Denver
BEGIN:STANDARD
TZNAME:MST
DTSTART:20191103T020000
TZOFFSETFROM:-0600
TZOFFSETTO:-0700
RDATE:20201101T020000
RDATE:20211107T020000
END:STANDARD
BEGIN:DAYLIGHT
TZNAME:MDT
DTSTART:20200308T020000
TZOFFSETFROM:-0700
TZOFFSETTO:-0600
RDATE:20210314T020000
RDATE:20220313T020000
END:DAYLIGHT
END:VTIMEZONE
BEGIN:VEVENT
UID:3c2e61ac-28cd-4b6e-9600-7d3950eb4086
DTSTAMP:20260424T220605Z
DESCRIPTION:Formed in 1985 as a small group of 5 artists\, the group took t
 heir name from the fact that all of the original members lived or had summ
 er homes in the Rock Creek/East Rosebud/Stillwater River region. They foun
 d the mountain landscapes and the ranch country in these areas a rich sour
 ce of subject matter for their paintings. Today\, the number of artists in
  the Stillwater Society has changed but they still gather together regular
 ly to talk about art. The exhibition at the Carbon County Arts Guild provi
 des a great venue for the participants to showcase their work. Artists in 
 this year's exhibition include Mary Blain\, Mary Lee Darby\, Robin Earles\
 , Elliott Eaton\, Jackie Inman\, Jerry Inman\, Nellie Israel\, Steve Kuenn
 en\, Elizabeth LaRowe\, Diana Mysse\, Dorci Newman-Tremblay\, E. Denney Ne
 Ville\, Jacquie Pritting Kittson\, Carolyn Thayer\, and Robert Tompkins.
DTSTART;TZID=America/Denver:20201003T000000
DTEND;TZID=America/Denver:20201029T235900
LOCATION:Main Gallery
SUMMARY:Stillwater Society Group Exhibition
END:VEVENT
END:VCALENDAR
