BEGIN:VCALENDAR
VERSION:2.0
PRODID:-//carboncountydepotgallery.org//NONSGML kigkonsult.se iCalcreator 2
 .30.10//
CALSCALE:GREGORIAN
METHOD:PUBLISH
UID:c8b0d4f8-775d-42ac-a8c3-55705c3769c1
X-WR-CALDESC:Welcome Walls allow the Guild to highlight the work of our mem
 ber artists. In the North Gallery November 3-28\, 2020 you will see the wo
 rk of Heidi He Does It\, Judy Liner\, Randall Rasmussen\, Debbie Simonich 
 and Lee Walker. More information will be coming as the show gets closer.
X-WR-RELCALID:6fd5c1a0396217d91bf4484d760e3529
X-WR-TIMEZONE:America/Denver
BEGIN:VTIMEZONE
TZID:America/Denver
BEGIN:STANDARD
TZNAME:MST
DTSTART:20201101T020000
TZOFFSETFROM:-0600
TZOFFSETTO:-0700
RDATE:20211107T020000
END:STANDARD
BEGIN:DAYLIGHT
TZNAME:MDT
DTSTART:20200308T020000
TZOFFSETFROM:-0700
TZOFFSETTO:-0600
RDATE:20210314T020000
RDATE:20220313T020000
END:DAYLIGHT
END:VTIMEZONE
BEGIN:VEVENT
UID:05e5becd-7d50-4987-b8e7-96bcf394f2d2
DTSTAMP:20260424T214248Z
DESCRIPTION:Welcome Walls allow the Guild to highlight the work of our memb
 er artists. In the North Gallery November 3-28\, 2020 you will see the wor
 k of Heidi He Does It\, Judy Liner\, Randall Rasmussen\, Debbie Simonich a
 nd Lee Walker. More information will be coming as the show gets closer.
DTSTART;TZID=America/Denver:20201103T000000
DTEND;TZID=America/Denver:20201128T235900
LOCATION:
SUMMARY:Welcome Walls
END:VEVENT
END:VCALENDAR
