BEGIN:VCALENDAR
VERSION:2.0
PRODID:-//carboncountydepotgallery.org//NONSGML kigkonsult.se iCalcreator 2
 .30.10//
CALSCALE:GREGORIAN
METHOD:PUBLISH
UID:474e8745-8515-41ef-99d3-2c8bdf140a02
X-WR-CALDESC:Seventeen members of the Carbon County Arts Guild & Depot Gall
 ery are featured in the Small Works Exhibition on view December 3\, 2020 t
 hrough January 15\, 2021 in the North Gallery. Each piece in the show is 6
 'x8' or smaller. A wide range of subject matter and mediums are represente
 d in the exhibition including watercolor\, oil\, and acrylic paintings\, a
 rt quilts\, batiks\, and photographs.  \n\nArtists in the Small Works Exhi
 bition include Barbara Butler\, Dolly Frerichs\, Linda Franson\, Oxana Gam
 ba\, Diane Greenwood\, Elizabeth LaRowe\, Peggy Lynn\, Christine Mullaney\
 , Kate Murphy\, Dorci Newman-Tremblay\, Cat Pentescu\, Vicki Quick\, Steph
 anie Rose\, Shirley Shirley\, Debbie Simonich\, Lou Taylor\, and Barbara Z
 uck.   \n\nThe Arts Guild & Depot Gallery is open 12-4 p.m.\, Thursday thr
 ough Monday. Special extended hours will be 10 a.m.-6 p.m. on Friday\, Dec
 ember 4 & Saturday\, December 5 and 10 a.m.-4 p.m.\, Sunday\, December 6.
X-WR-RELCALID:216d77f9fd7d90fb699eb0dd71297338
X-WR-TIMEZONE:America/Denver
BEGIN:VTIMEZONE
TZID:America/Denver
BEGIN:STANDARD
TZNAME:MST
DTSTART:20201101T020000
TZOFFSETFROM:-0600
TZOFFSETTO:-0700
RDATE:20211107T020000
END:STANDARD
BEGIN:DAYLIGHT
TZNAME:MDT
DTSTART:20200308T020000
TZOFFSETFROM:-0700
TZOFFSETTO:-0600
RDATE:20210314T020000
RDATE:20220313T020000
END:DAYLIGHT
END:VTIMEZONE
BEGIN:VEVENT
UID:b7f315ee-1eec-49d5-91b4-239ebb89f89e
DTSTAMP:20260424T215245Z
DESCRIPTION:Seventeen members of the Carbon County Arts Guild & Depot Galle
 ry are featured in the Small Works Exhibition on view December 3\, 2020 th
 rough January 15\, 2021 in the North Gallery. Each piece in the show is 6'
 x8' or smaller. A wide range of subject matter and mediums are represented
  in the exhibition including watercolor\, oil\, and acrylic paintings\, ar
 t quilts\, batiks\, and photographs.  \n\nArtists in the Small Works Exhib
 ition include Barbara Butler\, Dolly Frerichs\, Linda Franson\, Oxana Gamb
 a\, Diane Greenwood\, Elizabeth LaRowe\, Peggy Lynn\, Christine Mullaney\,
  Kate Murphy\, Dorci Newman-Tremblay\, Cat Pentescu\, Vicki Quick\, Stepha
 nie Rose\, Shirley Shirley\, Debbie Simonich\, Lou Taylor\, and Barbara Zu
 ck.   \n\nThe Arts Guild & Depot Gallery is open 12-4 p.m.\, Thursday thro
 ugh Monday. Special extended hours will be 10 a.m.-6 p.m. on Friday\, Dece
 mber 4 & Saturday\, December 5 and 10 a.m.-4 p.m.\, Sunday\, December 6.
DTSTART;TZID=America/Denver:20201203T000000
DTEND;TZID=America/Denver:20210115T235900
LOCATION:
SUMMARY:Small Works Show
END:VEVENT
END:VCALENDAR
