BEGIN:VCALENDAR
VERSION:2.0
PRODID:-//carboncountydepotgallery.org//NONSGML kigkonsult.se iCalcreator 2
 .30.10//
CALSCALE:GREGORIAN
METHOD:PUBLISH
UID:b9f94fce-66ec-45c8-a325-68a054535176
X-WR-CALDESC:Janet Moczar-Buti is a Livingston\, Montana artist whose wildl
 ife work clearly brings the viewer up close to see the detail.  Moczar-But
 i grew up in Western Montana where she immersed herself in her surrounding
 s. Being home-schooled Janet was encouraged to explore a variety of outdoo
 r activities including fishing\, hiking\, and horseback riding. Animals we
 re also a huge part of her childhood and she spent many hours drawing them
 . Her love for art continued to grow and develop\, but like a lot of peopl
 e\, Moczar-Buti jumped into the “real” world juggling a desk job\, marriag
 e\, and three wonderful children. \n\nThrough it all Janet Moczar-Buti con
 tinued to paint and develop her artistic skills by entering shows across t
 he country. It was in her 40s when Janet decided to leave her desk job to 
 pursue being a full-time artist. She says: “I know that I am on this plane
 t to create art\, and share with others\, nature at its finest. To help pe
 ople recognize the beauty that surrounds them and to further its conservat
 ion\, so that those who come after us can enjoy it as well.”\n\nThe Carbon
  County Arts Guild is please to show this solo exhibition of work by Janet
  Moczar-Buti December 3\, 2020 through January 15\, 2021. We are free and 
 open to the public 12-4 p.m.\, Thursday through Monday.
X-WR-RELCALID:59abb83622f4839ff32976ab0efd4b07
X-WR-TIMEZONE:America/Denver
BEGIN:VTIMEZONE
TZID:America/Denver
BEGIN:STANDARD
TZNAME:MST
DTSTART:20201101T020000
TZOFFSETFROM:-0600
TZOFFSETTO:-0700
RDATE:20211107T020000
END:STANDARD
BEGIN:DAYLIGHT
TZNAME:MDT
DTSTART:20200308T020000
TZOFFSETFROM:-0700
TZOFFSETTO:-0600
RDATE:20210314T020000
RDATE:20220313T020000
END:DAYLIGHT
END:VTIMEZONE
BEGIN:VEVENT
UID:758afcb4-26a3-4f7e-b5f0-e206b68e525c
DTSTAMP:20260424T220139Z
DESCRIPTION:Janet Moczar-Buti is a Livingston\, Montana artist whose wildli
 fe work clearly brings the viewer up close to see the detail.  Moczar-Buti
  grew up in Western Montana where she immersed herself in her surroundings
 . Being home-schooled Janet was encouraged to explore a variety of outdoor
  activities including fishing\, hiking\, and horseback riding. Animals wer
 e also a huge part of her childhood and she spent many hours drawing them.
  Her love for art continued to grow and develop\, but like a lot of people
 \, Moczar-Buti jumped into the “real” world juggling a desk job\, marriage
 \, and three wonderful children. \n\nThrough it all Janet Moczar-Buti cont
 inued to paint and develop her artistic skills by entering shows across th
 e country. It was in her 40s when Janet decided to leave her desk job to p
 ursue being a full-time artist. She says: “I know that I am on this planet
  to create art\, and share with others\, nature at its finest. To help peo
 ple recognize the beauty that surrounds them and to further its conservati
 on\, so that those who come after us can enjoy it as well.”\n\nThe Carbon 
 County Arts Guild is please to show this solo exhibition of work by Janet 
 Moczar-Buti December 3\, 2020 through January 15\, 2021. We are free and o
 pen to the public 12-4 p.m.\, Thursday through Monday.
DTSTART;TZID=America/Denver:20201203T000000
DTEND;TZID=America/Denver:20210115T015900
LOCATION:Main Gallery
SUMMARY:Up Close and Personal\, Paintings by Janet Moczar-Buti
END:VEVENT
END:VCALENDAR
