BEGIN:VCALENDAR
VERSION:2.0
PRODID:-//carboncountydepotgallery.org//NONSGML kigkonsult.se iCalcreator 2
 .30.10//
CALSCALE:GREGORIAN
METHOD:PUBLISH
UID:67a473c5-bbb6-4826-af75-90756e2d2967
X-WR-CALDESC:
X-WR-RELCALID:109366eaa9d7f46de5425a1836140fb3
X-WR-TIMEZONE:America/Chicago
BEGIN:VTIMEZONE
TZID:America/Chicago
BEGIN:STANDARD
TZNAME:CST
DTSTART:20191103T020000
TZOFFSETFROM:-0500
TZOFFSETTO:-0600
RDATE:20201101T020000
END:STANDARD
BEGIN:DAYLIGHT
TZNAME:CDT
DTSTART:20190310T020000
TZOFFSETFROM:-0600
TZOFFSETTO:-0500
RDATE:20200308T020000
RDATE:20210314T020000
END:DAYLIGHT
END:VTIMEZONE
BEGIN:VEVENT
UID:ecd9d615-f1df-42aa-943a-065de52628d2
DTSTAMP:20260424T202924Z
DESCRIPTION:
DTSTART;TZID=America/Chicago:20200304T000000
DTEND;TZID=America/Chicago:20201210T235900
LOCATION:CCAG Satellite Gallery at Roosevelt Center\, 518 Broadway South
SUMMARY:Wild Montana Skies\, Solo Exhibition by Connie Herberg
END:VEVENT
END:VCALENDAR
