BEGIN:VCALENDAR
VERSION:2.0
PRODID:-//carboncountydepotgallery.org//NONSGML kigkonsult.se iCalcreator 2
 .30.10//
CALSCALE:GREGORIAN
METHOD:PUBLISH
UID:16362183-12ed-4198-b5ea-7ed42eb57aae
X-WR-CALDESC:The solo exhibition called\, 'Falling in Love' by Dominique Pa
 ulus has been extended another month. You can continue to view the work by
  Paulus at the Carbon County Arts Guild Satellite Gallery in the Roosevelt
  Center through April 30\, 2021. The Satellite Gallery is a partnership wi
 th the Arts Guild and the Roosevelt Center in Red Lodge that gives Guild m
 ember artists an opportunity to show large scale works. Dominique’s work f
 ills the space beautifully with her retrospective exhibition. \n\nThe pain
 tings and drawings in this exhibition are very detailed and radiate the pa
 ssionate attention Dominique feels while she creates art. Each piece is ca
 refully composed to tell a story and engage the viewer. She says\, “Three 
 and a half decades ago\, my husband and I thought life was pretty perfect\
 , living in the remote boreal mountains of northern New Hampshire. I was i
 nvolved in the wildlife art world\, drawing and painting birds\, wildflowe
 rs\, and a lot of moose. We decided to backpack in Glacier National Park. 
 That very first excursion to Montana\, changed our lives forever. This exh
 ibition reveals my growing love and respect for nature. A love that flouri
 shes as I explore and observe the wild of Montana.”  It was the experience
  of seeing ' a flash of a wing...a brillant sky\, jagged snow peaks\, bear
 grass\, grizzly bears\, wolves and pika...' that shaped  Dominique's view 
 of Montana's natural world.\n\nThe Carbon County Arts Guild Satellite Gall
 ery in Roosevelt Center 519 S. Broadway\, Red Lodge\, is open Monday throu
 gh Friday\, 9:30 a.m. to 5 p.m.  Stop in to see these stunning composition
 s inspired by love. \n
X-WR-RELCALID:d386b21b311daa848a87a1ab255c7102
X-WR-TIMEZONE:America/Denver
BEGIN:VTIMEZONE
TZID:America/Denver
BEGIN:STANDARD
TZNAME:MST
DTSTART:20201101T020000
TZOFFSETFROM:-0600
TZOFFSETTO:-0700
RDATE:20211107T020000
END:STANDARD
BEGIN:DAYLIGHT
TZNAME:MDT
DTSTART:20200308T020000
TZOFFSETFROM:-0700
TZOFFSETTO:-0600
RDATE:20210314T020000
RDATE:20220313T020000
END:DAYLIGHT
END:VTIMEZONE
BEGIN:VEVENT
UID:558936ad-3328-4d87-abb4-f59d1b200498
DTSTAMP:20260424T204034Z
DESCRIPTION:The solo exhibition called\, 'Falling in Love' by Dominique Pau
 lus has been extended another month. You can continue to view the work by 
 Paulus at the Carbon County Arts Guild Satellite Gallery in the Roosevelt 
 Center through April 30\, 2021. The Satellite Gallery is a partnership wit
 h the Arts Guild and the Roosevelt Center in Red Lodge that gives Guild me
 mber artists an opportunity to show large scale works. Dominique’s work fi
 lls the space beautifully with her retrospective exhibition. \n\nThe paint
 ings and drawings in this exhibition are very detailed and radiate the pas
 sionate attention Dominique feels while she creates art. Each piece is car
 efully composed to tell a story and engage the viewer. She says\, “Three a
 nd a half decades ago\, my husband and I thought life was pretty perfect\,
  living in the remote boreal mountains of northern New Hampshire. I was in
 volved in the wildlife art world\, drawing and painting birds\, wildflower
 s\, and a lot of moose. We decided to backpack in Glacier National Park. T
 hat very first excursion to Montana\, changed our lives forever. This exhi
 bition reveals my growing love and respect for nature. A love that flouris
 hes as I explore and observe the wild of Montana.”  It was the experience 
 of seeing ' a flash of a wing...a brillant sky\, jagged snow peaks\, bearg
 rass\, grizzly bears\, wolves and pika...' that shaped  Dominique's view o
 f Montana's natural world.\n\nThe Carbon County Arts Guild Satellite Galle
 ry in Roosevelt Center 519 S. Broadway\, Red Lodge\, is open Monday throug
 h Friday\, 9:30 a.m. to 5 p.m.  Stop in to see these stunning compositions
  inspired by love. \n
DTSTART;TZID=America/Denver:20210102T000000
DTEND;TZID=America/Denver:20210430T235900
LOCATION:
SUMMARY:SHOW EXTENDED-Falling in Love: Paintings and Drawings by Dominique 
 Paulus
END:VEVENT
END:VCALENDAR
