BEGIN:VCALENDAR
VERSION:2.0
PRODID:-//carboncountydepotgallery.org//NONSGML kigkonsult.se iCalcreator 2
 .30.10//
CALSCALE:GREGORIAN
METHOD:PUBLISH
UID:f0d9d5a9-50d3-4dcb-9680-4f63c9bf53ed
X-WR-CALDESC:Guild members Cat Pentescu and Kelly Wolfe have a wonderful ph
 otography display up at the Carbon County Arts Guild Satellite Gallery in 
 the Roosevelt Center. The show is on the second floor of the building. It 
 can be viewed through April 30 \,2021. \n\nThe Satellite Gallery is locate
 d at 519 S. Broadway Avenue and open Monday through Friday.
X-WR-RELCALID:c5ed1c1e6e0cd57fa0a09e0ebe1f5197
X-WR-TIMEZONE:America/Denver
BEGIN:VTIMEZONE
TZID:America/Denver
BEGIN:STANDARD
TZNAME:MST
DTSTART:20201101T020000
TZOFFSETFROM:-0600
TZOFFSETTO:-0700
RDATE:20211107T020000
END:STANDARD
BEGIN:DAYLIGHT
TZNAME:MDT
DTSTART:20200308T020000
TZOFFSETFROM:-0700
TZOFFSETTO:-0600
RDATE:20210314T020000
RDATE:20220313T020000
END:DAYLIGHT
END:VTIMEZONE
BEGIN:VEVENT
UID:ce17095d-9c7d-4884-8c1a-4159f58747e4
DTSTAMP:20260424T203425Z
DESCRIPTION:Guild members Cat Pentescu and Kelly Wolfe have a wonderful pho
 tography display up at the Carbon County Arts Guild Satellite Gallery in t
 he Roosevelt Center. The show is on the second floor of the building. It c
 an be viewed through April 30 \,2021. \n\nThe Satellite Gallery is located
  at 519 S. Broadway Avenue and open Monday through Friday.
DTSTART;TZID=America/Denver:20210114T000000
DTEND;TZID=America/Denver:20210430T235900
LOCATION:
SUMMARY:Photographs by Kelly Wolfe and Cat Pentescu
END:VEVENT
END:VCALENDAR
