BEGIN:VCALENDAR
VERSION:2.0
PRODID:-//carboncountydepotgallery.org//NONSGML kigkonsult.se iCalcreator 2
 .30.10//
CALSCALE:GREGORIAN
METHOD:PUBLISH
UID:96777580-4d8e-4fd1-9caa-592d9c541a54
X-WR-CALDESC:At the Holiday Bazaar you will find beautiful handmade items i
 ncluding knitwear\, jewelry\, cards\, ornaments and more. The bazaar will 
 be on view December 3\, 2020 through January 15\, 2021. Come find the perf
 ect gift for yourself or someone special. \n\nThe Arts Guild & Depot Galle
 ry is open 12-4 p.m.\, Thursday through Monday. Special extended hours wil
 l be the weekend of December 4 & 5\, 10 a.m.-6 p.m.\, and December 6\, 10 
 a.m.-4 p.m.
X-WR-RELCALID:79b2ea9cfc8bf94bc14c3470212a2c3d
X-WR-TIMEZONE:America/Denver
BEGIN:VTIMEZONE
TZID:America/Denver
BEGIN:STANDARD
TZNAME:MST
DTSTART:20201101T020000
TZOFFSETFROM:-0600
TZOFFSETTO:-0700
RDATE:20211107T020000
END:STANDARD
BEGIN:DAYLIGHT
TZNAME:MDT
DTSTART:20200308T020000
TZOFFSETFROM:-0700
TZOFFSETTO:-0600
RDATE:20210314T020000
RDATE:20220313T020000
END:DAYLIGHT
END:VTIMEZONE
BEGIN:VEVENT
UID:7e284204-9dd9-4484-8ec5-b922337da5b5
DTSTAMP:20260424T185704Z
DESCRIPTION:At the Holiday Bazaar you will find beautiful handmade items in
 cluding knitwear\, jewelry\, cards\, ornaments and more. The bazaar will b
 e on view December 3\, 2020 through January 15\, 2021. Come find the perfe
 ct gift for yourself or someone special. \n\nThe Arts Guild & Depot Galler
 y is open 12-4 p.m.\, Thursday through Monday. Special extended hours will
  be the weekend of December 4 & 5\, 10 a.m.-6 p.m.\, and December 6\, 10 a
 .m.-4 p.m.
DTSTART;TZID=America/Denver:20201203T000000
DTEND;TZID=America/Denver:20210115T235900
LOCATION:
SUMMARY:Holiday Bazaar
END:VEVENT
END:VCALENDAR
