BEGIN:VCALENDAR
VERSION:2.0
PRODID:-//carboncountydepotgallery.org//NONSGML kigkonsult.se iCalcreator 2
 .30.10//
CALSCALE:GREGORIAN
METHOD:PUBLISH
UID:f5b8a42f-3ccd-4814-99dd-e0d5ea22806f
X-WR-CALDESC:The exhibition features seventy pieces representing a communit
 y of printmakers with connections to the Western United States. Work in th
 e show is 'rich and varied in technique and concept. The artists in the fo
 lio are as diverse as the work and made up of veteran and emerging printer
 s\, academics and working artists.'  Nate Abel\, Bev Beck Gluckert\, Andre
 w Caruso\, Gesine Janzen\, Susan Lowdermilk\, Catherine Nelson\, Sage Perr
 ott\, Robert Royhl\, and Melanie Yazzie are some of the artists whose work
  is in the exhibition.\n\nThis show is organized through the Robert & Genn
 ie DeWeese Gallery. 'Communities West IV' is sponsored by the Montana Art 
 Gallery Directors Association (MAGDA) which is supported in part by grants
  from the Montana Arts Council\, the Coal Tax Trust Fund for Cultural and 
 Aesthetic Projects\, and the National Endowment for the Arts.
X-WR-RELCALID:ffd85b4dbbaa1bbe3f8023a288560a80
X-WR-TIMEZONE:America/Denver
BEGIN:VTIMEZONE
TZID:America/Denver
BEGIN:STANDARD
TZNAME:MST
DTSTART:20201101T020000
TZOFFSETFROM:-0600
TZOFFSETTO:-0700
RDATE:20211107T020000
END:STANDARD
BEGIN:DAYLIGHT
TZNAME:MDT
DTSTART:20200308T020000
TZOFFSETFROM:-0700
TZOFFSETTO:-0600
RDATE:20210314T020000
RDATE:20220313T020000
END:DAYLIGHT
END:VTIMEZONE
BEGIN:VEVENT
UID:e7fef156-e6fb-4939-9ee0-7f6414098a69
DTSTAMP:20260424T202123Z
DESCRIPTION:The exhibition features seventy pieces representing a community
  of printmakers with connections to the Western United States. Work in the
  show is 'rich and varied in technique and concept. The artists in the fol
 io are as diverse as the work and made up of veteran and emerging printers
 \, academics and working artists.'  Nate Abel\, Bev Beck Gluckert\, Andrew
  Caruso\, Gesine Janzen\, Susan Lowdermilk\, Catherine Nelson\, Sage Perro
 tt\, Robert Royhl\, and Melanie Yazzie are some of the artists whose work 
 is in the exhibition.\n\nThis show is organized through the Robert & Genni
 e DeWeese Gallery. 'Communities West IV' is sponsored by the Montana Art G
 allery Directors Association (MAGDA) which is supported in part by grants 
 from the Montana Arts Council\, the Coal Tax Trust Fund for Cultural and A
 esthetic Projects\, and the National Endowment for the Arts.
DTSTART;TZID=America/Denver:20210121T000000
DTEND;TZID=America/Denver:20210226T235900
LOCATION:
SUMMARY:Communities West IV
END:VEVENT
END:VCALENDAR
