BEGIN:VCALENDAR
VERSION:2.0
PRODID:-//carboncountydepotgallery.org//NONSGML kigkonsult.se iCalcreator 2
 .30.10//
CALSCALE:GREGORIAN
METHOD:PUBLISH
UID:58208387-dff0-49fc-b2df-69237bbc777e
X-WR-CALDESC:The 2021 Student Art Show features creative work from K-8 yout
 h attending school in Fishtail\, Fromberg\, Joliet\, Luther\, Nye\, Red Lo
 dge\, and Roberts. There is a wide variety of painting\, drawing\, collage
 \, and sculpture on view in this annual display. In addition\, we are prov
 iding awards in the form of art supplies courtesy of Cafe Regis\, in Red L
 odge. \n\nThe judges for this year's show was Guild member artist Connie H
 erberg and Roosevelt Center Executive Director Kat Healy. We thank them fo
 r their time and support of the arts.\n\nApril 3-24\, the show will be on 
 view at the Arts Guild located at 11 West 8th Street in the historic train
  depot in Red Lodge. Hours are Thursday\, Friday and Saturday 12-4 p.m.  
 \n\nThe winner’s this year will receive art supplies courtesy of a sponsor
 ship from Café Regis.\n\n2D Winners\n1st Place - Name		Grade / School	Title o
 f Piece\nLily Machesseau		K-1	Nye 		Three Houses		 \nWesley Miller		2	Fromberg	Deer C
 ountry \nKailey Finley			3	Joliet		Wayne Thiebaud Dessert	 \nRylee Lammiman	4	Mtn V
 iew	Sunset	 \nLaramie Indreland	5	Mtn View	Mountains	 \nWess Martin			6	Nye		Stillwate
 r Morning	 \nKenzington Golden	7	Joliet		Alien Environmental Adaptation	 \nAnnal
 iese Trapp		8	Roosevelt	Bubbles\n\n2nd Place – Name	Grade / School	Title of Piec
 e\nEllory Stiegemeier	K-1	Mtn View	Rabbit\nPeri Erickson		2	Mtn View	Sunshine \nV
 iolet Machesseau 	3	Nye	       Watermelon\nTiegan Wilcox		4	Fishtail	       Bison
 	 \nSammi Steele		5	Luther	       Crazy Quilt		 \nDanika Erickson		6	Joliet		Zen Tangl
 e Landscape\nLiam Salt			7	Roosevelt	POW		 \nNatalie Krenning		8	Fromberg	My Horse So
 lo		 \n\n3rd Place – Name 	Grade / School	Title of Piece\nGracie Derk			K-1	Frombe
 rg	Henry the Dog\nSophia Cavender		2	Fishtail		American Marten\nGuthry Dinsdale		3
 	Joliet		Picasso Self-Portrait\nBenny Williams		4	Fishtail		Bighorn 	\nCarter Emine
 th		5	Mtn View	Dragon Eye 	\nRachel Reynolds		6	Roosevelt	Eye	\nAbigail Swansbrough	7
 	Roberts		Fruit 	\nWill Oley			 8	Roosevelt	Mountains\n\n3D – Winners 			\n1st Place –
  Name 	Grade/School	Title of Piece\nTitus Welchel		K-1	Nye                 Wove
 n Wall Hanging	 \nBlaike Martinez		2	Luther		Joy Puppet \nAdelaide Sechler		2	Luthe
 r		Joy Puppet      \nBailey Shettel		6	Joliet		Pouch Weaving \nGabe Lauver			7	Roosev
 elt	Matisse Dish \nWyatt Lowery		8	Fromberg	Elk Ivory Necklace \n\n2nd Place – 
 Name 	Grade / School	Title of Piece\nAlexandria Sechler	K-1	Luther		Bobblehead  
  \nElizabeth Schlemmer	6	Joliet		Pouch Weaving\nGavin Dunlap		7	Roosevelt	Burger\n
 Annika Birrer		8	Fromberg	Dragonfly         \n\nHonorable Mentions   Grade / S
 chool	Title of Piece\nHarley Cox			K-1	Fromberg	Rainbow Animal Friends\nCooper C
 arrington	K-1	Fromberg	Carritorous Near the Volcano\nAri Tatro			2	Fromberg 	Dino 
 Surprise\nBailey Bowman		2	Fromberg 	Kitty Tree\nSynova Jones		3	Joliet		Laurel Bur
 ch Dog\nBrynhild Clark		3	Joliet		Brynn’s Story Quilt\nLeah Ebel			4	Mtn View	Holida
 ys\nAspen Hill			4	Mtn View	Friends in a Mask\nJolissa Gray			4    	Fishtail		Pig\nKe
 nnedi Wagner		5	Mtn View	Night\nNancy Leatherberry Carbajal	5	Mtn View	Mountains
 \nIsabella Walter		5	Joliet		Animal Eye\nAnna Rickbeil		6	Roosevelt	Crazy Room		\nGra
 dy Lowery		6	Fromberg	Country Side\nLinden Schenk		6	Joliet		Pouch Weaving \nHarper
  Kruckenberg	7	Roosevelt  	Tree\nAshton Old Dwarf	7	Fromberg	In the Dust\nChole 
 Evertz			7	Joliet		Clay Fairy House \nQuincee Hopkins		7	Roosevelt  	Ice Cream\nMady
 lin Roascio	        7	Roosevelt	Cupcake \nAddison Schuck		8	Roosevelt	Tony Stark
 \nMaren Moore		8	Roosevelt	Self-Protrait\nAlyson Kowalcyzk	8	Joliet		Monochromatic
  Animal\nKatie	Reimer		8	Roosevelt	Maverick\nAvery Bauwens 		8	Joliet		Bobblehead\n
X-WR-RELCALID:de33174dfb39ce55e8477f9a1a72a458
X-WR-TIMEZONE:America/Denver
BEGIN:VTIMEZONE
TZID:America/Denver
BEGIN:STANDARD
TZNAME:MST
DTSTART:20201101T020000
TZOFFSETFROM:-0600
TZOFFSETTO:-0700
RDATE:20211107T020000
END:STANDARD
BEGIN:DAYLIGHT
TZNAME:MDT
DTSTART:20210314T020000
TZOFFSETFROM:-0700
TZOFFSETTO:-0600
RDATE:20220313T020000
END:DAYLIGHT
END:VTIMEZONE
BEGIN:VEVENT
UID:daced572-ed8b-405e-8824-b9d914f5813c
DTSTAMP:20260424T190002Z
DESCRIPTION:The 2021 Student Art Show features creative work from K-8 youth
  attending school in Fishtail\, Fromberg\, Joliet\, Luther\, Nye\, Red Lod
 ge\, and Roberts. There is a wide variety of painting\, drawing\, collage\
 , and sculpture on view in this annual display. In addition\, we are provi
 ding awards in the form of art supplies courtesy of Cafe Regis\, in Red Lo
 dge. \n\nThe judges for this year's show was Guild member artist Connie He
 rberg and Roosevelt Center Executive Director Kat Healy. We thank them for
  their time and support of the arts.\n\nApril 3-24\, the show will be on v
 iew at the Arts Guild located at 11 West 8th Street in the historic train 
 depot in Red Lodge. Hours are Thursday\, Friday and Saturday 12-4 p.m.  \n
 \nThe winner’s this year will receive art supplies courtesy of a sponsorsh
 ip from Café Regis.\n\n2D Winners\n1st Place - Name		Grade / School	Title of 
 Piece\nLily Machesseau		K-1	Nye 		Three Houses		 \nWesley Miller		2	Fromberg	Deer Cou
 ntry \nKailey Finley			3	Joliet		Wayne Thiebaud Dessert	 \nRylee Lammiman	4	Mtn Vie
 w	Sunset	 \nLaramie Indreland	5	Mtn View	Mountains	 \nWess Martin			6	Nye		Stillwater 
 Morning	 \nKenzington Golden	7	Joliet		Alien Environmental Adaptation	 \nAnnalie
 se Trapp		8	Roosevelt	Bubbles\n\n2nd Place – Name	Grade / School	Title of Piece
 \nEllory Stiegemeier	K-1	Mtn View	Rabbit\nPeri Erickson		2	Mtn View	Sunshine \nVi
 olet Machesseau 	3	Nye	       Watermelon\nTiegan Wilcox		4	Fishtail	       Bison	 
 \nSammi Steele		5	Luther	       Crazy Quilt		 \nDanika Erickson		6	Joliet		Zen Tangle
  Landscape\nLiam Salt			7	Roosevelt	POW		 \nNatalie Krenning		8	Fromberg	My Horse Sol
 o		 \n\n3rd Place – Name 	Grade / School	Title of Piece\nGracie Derk			K-1	Fromber
 g	Henry the Dog\nSophia Cavender		2	Fishtail		American Marten\nGuthry Dinsdale		3	J
 oliet		Picasso Self-Portrait\nBenny Williams		4	Fishtail		Bighorn 	\nCarter Eminet
 h		5	Mtn View	Dragon Eye 	\nRachel Reynolds		6	Roosevelt	Eye	\nAbigail Swansbrough	7	R
 oberts		Fruit 	\nWill Oley			 8	Roosevelt	Mountains\n\n3D – Winners 			\n1st Place – 
 Name 	Grade/School	Title of Piece\nTitus Welchel		K-1	Nye                 Woven
  Wall Hanging	 \nBlaike Martinez		2	Luther		Joy Puppet \nAdelaide Sechler		2	Luther
 		Joy Puppet      \nBailey Shettel		6	Joliet		Pouch Weaving \nGabe Lauver			7	Rooseve
 lt	Matisse Dish \nWyatt Lowery		8	Fromberg	Elk Ivory Necklace \n\n2nd Place – N
 ame 	Grade / School	Title of Piece\nAlexandria Sechler	K-1	Luther		Bobblehead   
 \nElizabeth Schlemmer	6	Joliet		Pouch Weaving\nGavin Dunlap		7	Roosevelt	Burger\nA
 nnika Birrer		8	Fromberg	Dragonfly         \n\nHonorable Mentions   Grade / Sc
 hool	Title of Piece\nHarley Cox			K-1	Fromberg	Rainbow Animal Friends\nCooper Ca
 rrington	K-1	Fromberg	Carritorous Near the Volcano\nAri Tatro			2	Fromberg 	Dino S
 urprise\nBailey Bowman		2	Fromberg 	Kitty Tree\nSynova Jones		3	Joliet		Laurel Burc
 h Dog\nBrynhild Clark		3	Joliet		Brynn’s Story Quilt\nLeah Ebel			4	Mtn View	Holiday
 s\nAspen Hill			4	Mtn View	Friends in a Mask\nJolissa Gray			4    	Fishtail		Pig\nKen
 nedi Wagner		5	Mtn View	Night\nNancy Leatherberry Carbajal	5	Mtn View	Mountains\n
 Isabella Walter		5	Joliet		Animal Eye\nAnna Rickbeil		6	Roosevelt	Crazy Room		\nGrady
  Lowery		6	Fromberg	Country Side\nLinden Schenk		6	Joliet		Pouch Weaving \nHarper K
 ruckenberg	7	Roosevelt  	Tree\nAshton Old Dwarf	7	Fromberg	In the Dust\nChole Ev
 ertz			7	Joliet		Clay Fairy House \nQuincee Hopkins		7	Roosevelt  	Ice Cream\nMadyli
 n Roascio	        7	Roosevelt	Cupcake \nAddison Schuck		8	Roosevelt	Tony Stark\nM
 aren Moore		8	Roosevelt	Self-Protrait\nAlyson Kowalcyzk	8	Joliet		Monochromatic An
 imal\nKatie	Reimer		8	Roosevelt	Maverick\nAvery Bauwens 		8	Joliet		Bobblehead\n
DTSTART;TZID=America/Denver:20210403T000000
DTEND;TZID=America/Denver:20210424T235900
LOCATION:
SUMMARY:Student Art Show K-8
END:VEVENT
END:VCALENDAR
